BEGIN:VCALENDAR
VERSION:2.0
PRODID:-//Marttilan kunta - ECPv6.15.18//NONSGML v1.0//EN
CALSCALE:GREGORIAN
METHOD:PUBLISH
X-ORIGINAL-URL:https://marttila.fi
X-WR-CALDESC:Tapahtumat Marttilan kunta
REFRESH-INTERVAL;VALUE=DURATION:PT1H
X-Robots-Tag:noindex
X-PUBLISHED-TTL:PT1H
BEGIN:VTIMEZONE
TZID:Europe/Helsinki
BEGIN:DAYLIGHT
TZOFFSETFROM:+0200
TZOFFSETTO:+0300
TZNAME:EEST
DTSTART:20240331T010000
END:DAYLIGHT
BEGIN:STANDARD
TZOFFSETFROM:+0300
TZOFFSETTO:+0200
TZNAME:EET
DTSTART:20241027T010000
END:STANDARD
BEGIN:DAYLIGHT
TZOFFSETFROM:+0200
TZOFFSETTO:+0300
TZNAME:EEST
DTSTART:20250330T010000
END:DAYLIGHT
BEGIN:STANDARD
TZOFFSETFROM:+0300
TZOFFSETTO:+0200
TZNAME:EET
DTSTART:20251026T010000
END:STANDARD
BEGIN:DAYLIGHT
TZOFFSETFROM:+0200
TZOFFSETTO:+0300
TZNAME:EEST
DTSTART:20260329T010000
END:DAYLIGHT
BEGIN:STANDARD
TZOFFSETFROM:+0300
TZOFFSETTO:+0200
TZNAME:EET
DTSTART:20261025T010000
END:STANDARD
END:VTIMEZONE
BEGIN:VEVENT
DTSTART;TZID=Europe/Helsinki:20250823T130000
DTEND;TZID=Europe/Helsinki:20250823T180000
DTSTAMP:20260424T185014
CREATED:20250808T121021Z
LAST-MODIFIED:20250808T121021Z
UID:10001305-1755954000-1755972000@marttila.fi
SUMMARY:Liikennepuisto avoinna
DESCRIPTION:
URL:https://marttila.fi/tapahtuma/liikennepuisto-avoinna-9/2025-08-23/
LOCATION:Marttilan liikennepuisto\, Marttilantie 18\, Marttila
CATEGORIES:Lapset ja nuoret,Liikunta
END:VEVENT
BEGIN:VEVENT
DTSTART;TZID=Europe/Helsinki:20250823T190000
DTEND;TZID=Europe/Helsinki:20250823T190000
DTSTAMP:20260424T185014
CREATED:20250422T073950Z
LAST-MODIFIED:20250422T073950Z
UID:10001126-1755975600-1755975600@marttila.fi
SUMMARY:Tanssit Laurilan lavalla\, Minna Äikäs & Minna Äikäs Band
DESCRIPTION:
URL:https://marttila.fi/tapahtuma/tanssit-laurilan-lavalla-minna-aikas-minna-aikas-band/
LOCATION:Laurilan Lava\, Salontie 544\, Marttila
CATEGORIES:Liikunta,Musiikki
ORGANIZER;CN="Laurilan pienviljelij%C3%A4in osasto ry":MAILTO:aalto.ilpo@pp.nic.fi
END:VEVENT
BEGIN:VEVENT
DTSTART;TZID=Europe/Helsinki:20250824T130000
DTEND;TZID=Europe/Helsinki:20250824T190000
DTSTAMP:20260424T185014
CREATED:20250808T121129Z
LAST-MODIFIED:20250808T121129Z
UID:10001309-1756040400-1756062000@marttila.fi
SUMMARY:Liikennepuisto avoinna
DESCRIPTION:
URL:https://marttila.fi/tapahtuma/liikennepuisto-avoinna-10/2025-08-24/
LOCATION:Marttilan liikennepuisto\, Marttilantie 18\, Marttila
CATEGORIES:Lapset ja nuoret,Liikunta
END:VEVENT
BEGIN:VEVENT
DTSTART;TZID=Europe/Helsinki:20250826T150000
DTEND;TZID=Europe/Helsinki:20250826T200000
DTSTAMP:20260424T185014
CREATED:20250808T110042Z
LAST-MODIFIED:20250808T110042Z
UID:10001281-1756220400-1756238400@marttila.fi
SUMMARY:Palaisten sauna
DESCRIPTION:Palaisten sauna on avoinna. \nSaunan 10x lippuvihkoja 43€ myydään kirjastolla ja kunnantalolla\, \npaikan päällä maksu vain käteisellä ja tasarahalla 5 €. \nSaunomiseen osallistuvan tulee saapua paikan päälle viimeistään klo 19.
URL:https://marttila.fi/tapahtuma/palaisten-sauna-5/2025-08-26/
LOCATION:Palaisten uimapaikka\, Palaistentie 438\, Marttila\, Suomi
CATEGORIES:Ikäihmiset,Lapset ja nuoret,Liikunta,Yleinen
END:VEVENT
BEGIN:VEVENT
DTSTART;TZID=Europe/Helsinki:20250826T153000
DTEND;TZID=Europe/Helsinki:20250826T190000
DTSTAMP:20260424T185014
CREATED:20250808T121434Z
LAST-MODIFIED:20250808T121434Z
UID:10001312-1756222200-1756234800@marttila.fi
SUMMARY:Liikennepuisto avoinna
DESCRIPTION:
URL:https://marttila.fi/tapahtuma/liikennepuisto-avoinna-11/
LOCATION:Marttilan liikennepuisto\, Marttilantie 18\, Marttila
CATEGORIES:Lapset ja nuoret,Liikunta
END:VEVENT
BEGIN:VEVENT
DTSTART;TZID=Europe/Helsinki:20250827T153000
DTEND;TZID=Europe/Helsinki:20250827T190000
DTSTAMP:20260424T185014
CREATED:20250808T120802Z
LAST-MODIFIED:20250808T120802Z
UID:10001298-1756308600-1756321200@marttila.fi
SUMMARY:Liikennepuisto avoinna
DESCRIPTION:
URL:https://marttila.fi/tapahtuma/liikennepuisto-avoinna-7/2025-08-27/
LOCATION:Marttilan liikennepuisto\, Marttilantie 18\, Marttila
CATEGORIES:Lapset ja nuoret,Liikunta
END:VEVENT
BEGIN:VEVENT
DTSTART;TZID=Europe/Helsinki:20250828T153000
DTEND;TZID=Europe/Helsinki:20250828T190000
DTSTAMP:20260424T185014
CREATED:20250808T120903Z
LAST-MODIFIED:20250808T120903Z
UID:10001302-1756395000-1756407600@marttila.fi
SUMMARY:Liikennepuisto avoinna
DESCRIPTION:
URL:https://marttila.fi/tapahtuma/liikennepuisto-avoinna-8/2025-08-28/
LOCATION:Marttilan liikennepuisto\, Marttilantie 18\, Marttila
CATEGORIES:Lapset ja nuoret,Liikunta
END:VEVENT
BEGIN:VEVENT
DTSTART;TZID=Europe/Helsinki:20250829T150000
DTEND;TZID=Europe/Helsinki:20250829T200000
DTSTAMP:20260424T185014
CREATED:20250808T105634Z
LAST-MODIFIED:20250808T105634Z
UID:10001272-1756479600-1756497600@marttila.fi
SUMMARY:Palaisten sauna
DESCRIPTION:Palaisten sauna on avoinna. \nSaunan 10x lippuvihkoja 43€ myydään kirjastolla ja kunnantalolla\, \npaikan päällä maksu vain käteisellä ja tasarahalla 5 €. \nSaunomiseen osallistuvan tulee saapua paikan päälle viimeistään klo 19.
URL:https://marttila.fi/tapahtuma/palaisten-sauna-4/2025-08-29/
LOCATION:Palaisten uimapaikka\, Palaistentie 438\, Marttila\, Suomi
CATEGORIES:Ikäihmiset,Lapset ja nuoret,Liikunta,Yleinen
END:VEVENT
BEGIN:VEVENT
DTSTART;TZID=Europe/Helsinki:20250830T130000
DTEND;TZID=Europe/Helsinki:20250830T180000
DTSTAMP:20260424T185014
CREATED:20250808T121021Z
LAST-MODIFIED:20250808T121021Z
UID:10001306-1756558800-1756576800@marttila.fi
SUMMARY:Liikennepuisto avoinna
DESCRIPTION:
URL:https://marttila.fi/tapahtuma/liikennepuisto-avoinna-9/2025-08-30/
LOCATION:Marttilan liikennepuisto\, Marttilantie 18\, Marttila
CATEGORIES:Lapset ja nuoret,Liikunta
END:VEVENT
BEGIN:VEVENT
DTSTART;TZID=Europe/Helsinki:20250830T183000
DTEND;TZID=Europe/Helsinki:20250830T220000
DTSTAMP:20260424T185014
CREATED:20250717T063908Z
LAST-MODIFIED:20250717T063908Z
UID:10001256-1756578600-1756591200@marttila.fi
SUMMARY:Muinaistulien yö Palaisilla
DESCRIPTION:Muinaistulien yö 30.8.2025 \nSauna lämmin ja grillausta klo 18:30-21:30 \nTulishow klo 21:30 \nSaunamaksu 5 €\, alle 16-vuotiaat ilmaiseksi
URL:https://marttila.fi/tapahtuma/muinaistulien-yo-palaisilla/
LOCATION:Palaisten uimapaikka\, Palaistentie 438\, Marttila\, Suomi
CATEGORIES:Kulttuuri,Liikunta
ATTACH;FMTTYPE=image/png:https://marttila.fi/wp-content/uploads/2025/07/MUINAISTULIEN-1.png
END:VEVENT
BEGIN:VEVENT
DTSTART;TZID=Europe/Helsinki:20250830T190000
DTEND;TZID=Europe/Helsinki:20250830T190000
DTSTAMP:20260424T185014
CREATED:20250422T074050Z
LAST-MODIFIED:20250422T074050Z
UID:10001127-1756580400-1756580400@marttila.fi
SUMMARY:Tanssit Laurilan lavalla\, Aikalisä
DESCRIPTION:
URL:https://marttila.fi/tapahtuma/tanssit-laurilan-lavalla-aikalisa/
LOCATION:Laurilan Lava\, Salontie 544\, Marttila
CATEGORIES:Liikunta,Musiikki
ORGANIZER;CN="Laurilan pienviljelij%C3%A4in osasto ry":MAILTO:aalto.ilpo@pp.nic.fi
END:VEVENT
BEGIN:VEVENT
DTSTART;TZID=Europe/Helsinki:20250901T153000
DTEND;TZID=Europe/Helsinki:20250901T193000
DTSTAMP:20260424T185014
CREATED:20250717T065334Z
LAST-MODIFIED:20250717T065334Z
UID:10001258-1756740600-1756755000@marttila.fi
SUMMARY:Kuntalaisten liikuntasalin omatoimi treenivuorot alkaa
DESCRIPTION:
URL:https://marttila.fi/tapahtuma/kuntalaisten-liikuntasalin-omatoimi-treenivuorot-alkaa/
LOCATION:Martintalo\, Metsäniityntie 9\, Marttila\, 21490
CATEGORIES:Liikunta
ATTACH;FMTTYPE=image/png:https://marttila.fi/wp-content/uploads/2025/07/Smash-Course-1.png
END:VEVENT
BEGIN:VEVENT
DTSTART;TZID=Europe/Helsinki:20250901T163000
DTEND;TZID=Europe/Helsinki:20250901T190000
DTSTAMP:20260424T185014
CREATED:20250602T114041Z
LAST-MODIFIED:20250915T152058Z
UID:10001329-1756744200-1756753200@marttila.fi
SUMMARY:Lankaterapiaa-neulontapiiri
DESCRIPTION:Lankaterapiaa-neulontapiiri kokoontuu Marttilan kirjastossa maanantaisin klo 16.30-19. Vapaa pääsy\, omat langat ja puikot mukaan. Tervetuloa!
URL:https://marttila.fi/tapahtuma/lankaterapiaa-neulontapiiri/2025-09-01/
LOCATION:Marttilan kirjasto\, Härkätie 723\, Marttila\, 21490\, Suomi
ATTACH;FMTTYPE=image/jpeg:https://marttila.fi/wp-content/uploads/2025/06/lankaterapia.jpg
END:VEVENT
BEGIN:VEVENT
DTSTART;TZID=Europe/Helsinki:20250902T150000
DTEND;TZID=Europe/Helsinki:20250902T200000
DTSTAMP:20260424T185014
CREATED:20250808T110042Z
LAST-MODIFIED:20250808T110042Z
UID:10001282-1756825200-1756843200@marttila.fi
SUMMARY:Palaisten sauna
DESCRIPTION:Palaisten sauna on avoinna. \nSaunan 10x lippuvihkoja 43€ myydään kirjastolla ja kunnantalolla\, \npaikan päällä maksu vain käteisellä ja tasarahalla 5 €. \nSaunomiseen osallistuvan tulee saapua paikan päälle viimeistään klo 19.
URL:https://marttila.fi/tapahtuma/palaisten-sauna-5/2025-09-02/
LOCATION:Palaisten uimapaikka\, Palaistentie 438\, Marttila\, Suomi
CATEGORIES:Ikäihmiset,Lapset ja nuoret,Liikunta,Yleinen
END:VEVENT
BEGIN:VEVENT
DTSTART;TZID=Europe/Helsinki:20250903T100000
DTEND;TZID=Europe/Helsinki:20250903T110000
DTSTAMP:20260424T185014
CREATED:20250717T065905Z
LAST-MODIFIED:20250717T065905Z
UID:10001259-1756893600-1756897200@marttila.fi
SUMMARY:Ulkoilua Wertaisliikuntakavereiden kanssa
DESCRIPTION:Lähtö ulkoilemaan vapaaehtoisten Wertaisliikuntakavereiden kanssa\, tule rohkeasti mukaan! Liikkuminen tapahtuu ulkona.
URL:https://marttila.fi/tapahtuma/ulkoilua-wertaisliikuntakavereiden-kanssa/
LOCATION:Huvila\, Härkätie 723\, Härkätie 723
CATEGORIES:Liikunta
ATTACH;FMTTYPE=image/png:https://marttila.fi/wp-content/uploads/2025/07/Wertaisliikuntakaverit-1.png
END:VEVENT
BEGIN:VEVENT
DTSTART;TZID=Europe/Helsinki:20250905T150000
DTEND;TZID=Europe/Helsinki:20250905T200000
DTSTAMP:20260424T185014
CREATED:20250808T105634Z
LAST-MODIFIED:20250808T105634Z
UID:10001273-1757084400-1757102400@marttila.fi
SUMMARY:Palaisten sauna
DESCRIPTION:Palaisten sauna on avoinna. \nSaunan 10x lippuvihkoja 43€ myydään kirjastolla ja kunnantalolla\, \npaikan päällä maksu vain käteisellä ja tasarahalla 5 €. \nSaunomiseen osallistuvan tulee saapua paikan päälle viimeistään klo 19.
URL:https://marttila.fi/tapahtuma/palaisten-sauna-4/2025-09-05/
LOCATION:Palaisten uimapaikka\, Palaistentie 438\, Marttila\, Suomi
CATEGORIES:Ikäihmiset,Lapset ja nuoret,Liikunta,Yleinen
END:VEVENT
BEGIN:VEVENT
DTSTART;TZID=Europe/Helsinki:20250905T170000
DTEND;TZID=Europe/Helsinki:20250905T210000
DTSTAMP:20260424T185014
CREATED:20250902T130505Z
LAST-MODIFIED:20250902T130505Z
UID:10001319-1757091600-1757106000@marttila.fi
SUMMARY:Yrittäjän päivän saunailta
DESCRIPTION:Yrittäjän päivän iltaa vietetään Palaisten saunalla klo 17-21. \nSauna on lämpimänä ja grilli kuumana marttilalaisille yrittäjille ja yrittäjyyttä miettiville. Ohjelmassa tietoa tulevista koulutuksista ja tapahtumista sekä muista ajankohtaisista asioista. Paikalla myös Marttilan kunnan liikuntaneuvoja.
URL:https://marttila.fi/tapahtuma/yrittajan-paivan-saunailta/
LOCATION:Palaisten uimapaikka\, Palaistentie 438\, Marttila\, Suomi
CATEGORIES:Yrittäjät
ATTACH;FMTTYPE=image/jpeg:https://marttila.fi/wp-content/uploads/2025/09/yrittajasauna.jpg
END:VEVENT
BEGIN:VEVENT
DTSTART;TZID=Europe/Helsinki:20250906T100000
DTEND;TZID=Europe/Helsinki:20250906T140000
DTSTAMP:20260424T185014
CREATED:20250902T131034Z
LAST-MODIFIED:20250902T131034Z
UID:10001320-1757152800-1757167200@marttila.fi
SUMMARY:Lähituottajatori
DESCRIPTION:Lähituottajatori Kirjaston parkkipaikalla \nMyynnissä mm. leivonnaisia\, naudanlihatuotteita\, käsitöitä \nLähituottajatorille ovat tervetulleita alueen toimijat ja lähituottajat
URL:https://marttila.fi/tapahtuma/lahituottajatori-2/
LOCATION:Kirjaston piha-alue\, Härkätie 723\, Härkätie 723\, 21490
CATEGORIES:tori,Yleinen,Yrittäjät
ATTACH;FMTTYPE=image/jpeg:https://marttila.fi/wp-content/uploads/2025/09/lahituottajatori-syyskuu.jpg
END:VEVENT
BEGIN:VEVENT
DTSTART;TZID=Europe/Helsinki:20250906T170000
DTEND;TZID=Europe/Helsinki:20250907T010000
DTSTAMP:20260424T185014
CREATED:20250805T084642Z
LAST-MODIFIED:20250805T084642Z
UID:10001264-1757178000-1757206800@marttila.fi
SUMMARY:Auranmaan Yrittäjägaala goes Septemberfest
DESCRIPTION:Auranmaan Yrittäjägaala tulee jälleen ja kutsuu Sinut viihtymään! \nOripään kunta ja Auranmaan Nuorkauppakamari yhteistyössä Auran ja Pöytyän kuntien sekä paikallisten yrittäjäyhdistysten ja muiden yhteistyökumppanien kanssa kutsuvat Sinut yrittäjä tai yrittäjän ystävä jo kolmatta kertaa järjestettävään Auranmaan Yrittäjägaalaan. \nOripään Kivisalissa lauantaina 6.9.2025 pidettävä Auranmaan Yrittäjägaala on syyskuussa vietettävän yrittäjäviikon huipentuma\, jossa juhlistetaan yrittäjyyttä ja alueellista yhteistyötä\, palkitaan yrittäjiä\, nautitaan illallisesta\, elävästä musiikista sekä tunnelmasta oktoberfest-teeman hengessä. \nAuranmaan Yrittäjägaalaan ovat tervetulleita kaikki yrittäjät henkilöstöineen sekä yrittäjien ystävät. Lisäksi yrittäjien kanssa yhteistyötä tekevät\, sidosryhmät ja yrittäjyydestä kiinnostuneet ovat myös lämpimästi tervetulleita gaalaan. \nMITÄ? Auranmaan Yrittäjägaala goes Septemberfest \nMISSÄ? Kivisali\, Kulmalankuja 30\, 32500 Oripää \nMILLOIN? Lauantaina 6.9.2025 klo 17-01 \nKENELLE? Kaikille Auranmaalla (Aura\, Koski Tl\, Marttila\, Oripää\, Pöytyä) toimiville yrittäjille henkilöstöineen\, päättäjille\, elinkeinoelämän vaikuttajille sekä yrittäjien ystäville ja yrittäjyydestä kiinnostuneille \nHINTA? Illalliskortti 65 € + alv 25\,5%; sis. alkumalja\, illallinen viinipaketteineen (valittavissa myös alkoholiton viinipaketti)\, jälkiruoka\, illan ohjelma \nPUKUKOODI? Suositeltavaa juhlava pukeutuminen tai halutessaan oktoberfest-teeman mukainen pukeutuminen \nMITEN? Ilmoittaudu viimeistään lauantaina 30.8.2025 klo 23:59 mennessä Lyytin kautta: www.lyyti.in/AuranmaanYrittajagaala25 \nOripään kunta laskuttaa illalliskortit ennen gaalaa elo-syyskuussa. \nVoit ilmoittaa yhden henkilön tai vaikka koko työporukan tiedot samalla kerralla. Täytä ensin maksajan tiedot ja lisää sen jälkeen osallistujien tiedot. \nLISÄTIEDOT:\nLeena Blom\, projektipäällikkö\nAuranmaan Nuorkauppakamari\nleena.blom@jci.fi / 041-504 8331 \nKatso tarkemmat tiedot tapahtumasta Auranmaan Nuorkauppakamarin nettisivuilta www.jcauranmaa.com/yrittajagaala\nja seuraa gaalan tiedotusta myös Facebook-tapahtumasivulla www.facebook.com/events/1256449675941445/ \nAuranmaan Yrittäjägaala on alueemme yhteinen ponnistus\, eikä se onnistuisi ilman yhteistyötä. Kiitos kaikille sidosryhmille! \nLÄMPIMÄSTI TERVETULOA! \nTOIVOTTAVAT:\nOripään kunta\nPöytyän kunta\nAuran kunta\nAuranmaan Nuorkauppakamari ry \nTAPAHTUMAA LISÄKSI MAHDOLLISTAMASSA:\nOP Vakka-Auranmaa\nIlmarinen\nPohjola Vakuutus\nAuranmaan Tilitiimi Oy\nAuranmaan Viikkolehti\nAuran Yrittäjät ry\nOripään Yrittäjät ry\nPöytyän Yrittäjät ry\nYläneen Yrittäjät ry
URL:https://marttila.fi/tapahtuma/auranmaan-yrittajagaala-goes-septemberfest/
LOCATION:Oripään Kivisali\, Kulmalankuja 30\, Oripää\, 32500
CATEGORIES:Yrittäjät
ORGANIZER;CN="Auranmaan Nuorkauppakamari sek%C3%A4 Orip%C3%A4%C3%A4n%2C Auran ja P%C3%B6yty%C3%A4n kunnat":MAILTO:marjut.wallin@jci.fi
END:VEVENT
BEGIN:VEVENT
DTSTART;TZID=Europe/Helsinki:20250906T190000
DTEND;TZID=Europe/Helsinki:20250906T190000
DTSTAMP:20260424T185014
CREATED:20250422T074203Z
LAST-MODIFIED:20250422T074203Z
UID:10001128-1757185200-1757185200@marttila.fi
SUMMARY:Tanssit Laurilan lavalla\, Sanna Linna & Jake Niska Band
DESCRIPTION:
URL:https://marttila.fi/tapahtuma/tanssit-laurilan-lavalla-sanna-linna-jake-niska-band/
LOCATION:Laurilan Lava\, Salontie 544\, Marttila
CATEGORIES:Liikunta,Musiikki
ORGANIZER;CN="Laurilan pienviljelij%C3%A4in osasto ry":MAILTO:aalto.ilpo@pp.nic.fi
END:VEVENT
BEGIN:VEVENT
DTSTART;TZID=Europe/Helsinki:20250907T150000
DTEND;TZID=Europe/Helsinki:20250907T170000
DTSTAMP:20260424T185014
CREATED:20250807T062402Z
LAST-MODIFIED:20250807T062402Z
UID:10001265-1757257200-1757264400@marttila.fi
SUMMARY:Perheretki Ryyppykallion laavulle
DESCRIPTION:Marttilan maaseutunaiset järjestää perheretken Ryyppykallion laavulle sunnuntaina 7.9.\nOta omaan reppuusi mukaan makkaratikku ja muki\, maaseutunaiset tarjoavat makkaran ja mehun.\nLähtö Huhtaanmajalta klo 15\, josta jokainen ottaa muutaman klapin reppuun mukaan. \nLähtöpaikan osoite: Karhunpääntie 101 A.
URL:https://marttila.fi/tapahtuma/perheretki-ryyppykallion-laavulle/
LOCATION:Huhtaanmäki
CATEGORIES:Yhdistykset
ATTACH;FMTTYPE=image/jpeg:https://marttila.fi/wp-content/uploads/2025/08/0baeee63-befa-45c5-860e-90ed91954833.jpg
END:VEVENT
BEGIN:VEVENT
DTSTART;TZID=Europe/Helsinki:20250909T140000
DTEND;TZID=Europe/Helsinki:20250909T160000
DTSTAMP:20260424T185014
CREATED:20250707T062039Z
LAST-MODIFIED:20250707T062039Z
UID:10001254-1757426400-1757433600@marttila.fi
SUMMARY:Unikoulu
DESCRIPTION:Vaivaako unettomuus? \nMarttilan terveysasemalla toteutetaan unettomuuden hoitoa Unikoulu-mallin avulla. Aikuisten Unikoulu perustuu lääkkeettömiin hoitokeinoihin. Ryhmä kokoontuu\nkuusi kertaa ja ennen ryhmän alkua jokaiselle tehdään henkilökohtainen alkukartoitus. \nSeuraava ryhmä alkaa Marttilan terveysasemalla (Kirkkotie 2)\ntiistaina 9.9.25 klo 14.00–16.00. Lisätietoja Marttilan terveysasema unettomuusterapeutti puh. 02 4873 7227. Ilmoittaudu viimeistään 25.8.25 mennessä. Ryhmä on maksuton. Edennyt muistisairaus on este ryhmään osallistumiselle. \nRyhmään voivat osallistua Marttilan\, Kosken\, Pöytyän\, Auran\, Yläneen\, Oripään\, Kyrön\, Loimaan\, Paimion\,\nSauvon\, Kaarinan ja Liedon alueella asuvat kuntalaiset. Turun yliopisto tekee tutkimusta Unikoulu-mallin tehosta\, tutkimukseen osallistuminen on vapaaehtoista
URL:https://marttila.fi/tapahtuma/unikoulu/
LOCATION:Marttilan terveysasema\, Kirkkotie 2\, Marttila\, 21490\, Finland
ATTACH;FMTTYPE=image/png:https://marttila.fi/wp-content/uploads/2025/07/Sieppaaunikoulu2025.png
END:VEVENT
BEGIN:VEVENT
DTSTART;TZID=Europe/Helsinki:20250909T150000
DTEND;TZID=Europe/Helsinki:20250909T200000
DTSTAMP:20260424T185014
CREATED:20250808T110042Z
LAST-MODIFIED:20250808T110042Z
UID:10001283-1757430000-1757448000@marttila.fi
SUMMARY:Palaisten sauna
DESCRIPTION:Palaisten sauna on avoinna. \nSaunan 10x lippuvihkoja 43€ myydään kirjastolla ja kunnantalolla\, \npaikan päällä maksu vain käteisellä ja tasarahalla 5 €. \nSaunomiseen osallistuvan tulee saapua paikan päälle viimeistään klo 19.
URL:https://marttila.fi/tapahtuma/palaisten-sauna-5/2025-09-09/
LOCATION:Palaisten uimapaikka\, Palaistentie 438\, Marttila\, Suomi
CATEGORIES:Ikäihmiset,Lapset ja nuoret,Liikunta,Yleinen
END:VEVENT
BEGIN:VEVENT
DTSTART;TZID=Europe/Helsinki:20250910T180000
DTEND;TZID=Europe/Helsinki:20250910T190000
DTSTAMP:20260424T185014
CREATED:20250717T070644Z
LAST-MODIFIED:20250717T070644Z
UID:10001261-1757527200-1757530800@marttila.fi
SUMMARY:Ilmainen kuntosaliopastus
DESCRIPTION:Kuntosaliopastus tulossa 10.9.2025 klo 18-19:00 Martintalolla. Paikalla ohjaaja Asta Keskitalo opastamassa kuntosalilaitteiden käyttöön\, voit myös kysellä häneltä muita vinkkejä treenaamiseen. Sinun ei tarvitse olla jäsen tullaksesi tutustumaan\, tervetuloa!
URL:https://marttila.fi/tapahtuma/ilmainen-kuntosaliopastus/
LOCATION:Martintalo\, Metsäniityntie 9\, Marttila\, 21490
CATEGORIES:Liikunta
END:VEVENT
BEGIN:VEVENT
DTSTART;TZID=Europe/Helsinki:20250912T140000
DTEND;TZID=Europe/Helsinki:20250912T170000
DTSTAMP:20260424T185014
CREATED:20250902T133636Z
LAST-MODIFIED:20250902T133636Z
UID:10001321-1757685600-1757696400@marttila.fi
SUMMARY:Tekoälykoulutus yrittäjille
DESCRIPTION:  \n\nMarttilan ja Kosken Tl kuntien yrityspalvelut järjestävät alueen yrittäjille suunnatun ilmaisen käytännönläheisen tekoälykoulutuksen perjantaina 12.9.2025 klo 14-17 Kosken Pop Pankin auditoriossa osoitteessa Hämeentie 14\, Koski Tl.\n\n\nKouluttajana toimii Arni Hukari\, jolla on pitkä kokemus tekoälyn hyödyntämisessä liiketoiminnassa. Koulutuksessa opit harjoituksien kautta hyödyntämään tekoälyä omassa liiketoiminnassasi. Ota mukaan oma tietokone / älykännykkä.\n\n\nIlmoittautuminen on nyt avoinna ja viimeinen ilmoittautumispäivä on 10.9.2025.\nIlmoittautumislinkki: https://link.webropol.com/ep/tekoalykoulutuskoskijamarttila\n\n\nTervetuloa!
URL:https://marttila.fi/tapahtuma/tekoalykoulutus-yrittajille/
CATEGORIES:Yrittäjät
ATTACH;FMTTYPE=image/png:https://marttila.fi/wp-content/uploads/2025/09/1.png
ORGANIZER;CN="Elinkeinoasianatuntija Koski Tl ja Marttila":MAILTO:jaakko.salmi@marttila.fi
END:VEVENT
BEGIN:VEVENT
DTSTART;TZID=Europe/Helsinki:20250912T150000
DTEND;TZID=Europe/Helsinki:20250912T200000
DTSTAMP:20260424T185014
CREATED:20250808T105634Z
LAST-MODIFIED:20250808T105634Z
UID:10001274-1757689200-1757707200@marttila.fi
SUMMARY:Palaisten sauna
DESCRIPTION:Palaisten sauna on avoinna. \nSaunan 10x lippuvihkoja 43€ myydään kirjastolla ja kunnantalolla\, \npaikan päällä maksu vain käteisellä ja tasarahalla 5 €. \nSaunomiseen osallistuvan tulee saapua paikan päälle viimeistään klo 19.
URL:https://marttila.fi/tapahtuma/palaisten-sauna-4/2025-09-12/
LOCATION:Palaisten uimapaikka\, Palaistentie 438\, Marttila\, Suomi
CATEGORIES:Ikäihmiset,Lapset ja nuoret,Liikunta,Yleinen
END:VEVENT
BEGIN:VEVENT
DTSTART;TZID=Europe/Helsinki:20250913T190000
DTEND;TZID=Europe/Helsinki:20250913T190000
DTSTAMP:20260424T185014
CREATED:20250422T074258Z
LAST-MODIFIED:20250422T074258Z
UID:10001129-1757790000-1757790000@marttila.fi
SUMMARY:Tanssit Laurilan lavalla\, Janiina Lehtonen & Putkiratio
DESCRIPTION:
URL:https://marttila.fi/tapahtuma/tanssit-laurilan-lavalla-janiina-lehtonen-putkiratio/
LOCATION:Laurilan Lava\, Salontie 544\, Marttila
CATEGORIES:Liikunta,Musiikki
ORGANIZER;CN="Laurilan pienviljelij%C3%A4in osasto ry":MAILTO:aalto.ilpo@pp.nic.fi
END:VEVENT
BEGIN:VEVENT
DTSTART;TZID=Europe/Helsinki:20250915T160000
DTEND;TZID=Europe/Helsinki:20250915T193000
DTSTAMP:20260424T185014
CREATED:20250602T114041Z
LAST-MODIFIED:20250915T152058Z
UID:10001330-1757952000-1757964600@marttila.fi
SUMMARY:Lankaterapiaa-neulontapiiri
DESCRIPTION:Lankaterapiaa-neulontapiiri kokoontuu Marttilan kirjastossa maanantaisin klo 16.30-19. Vapaa pääsy\, omat langat ja puikot mukaan. Tervetuloa!
URL:https://marttila.fi/tapahtuma/lankaterapiaa-neulontapiiri/2025-09-15/
LOCATION:Marttilan kirjasto\, Härkätie 723\, Marttila\, 21490\, Suomi
ATTACH;FMTTYPE=image/jpeg:https://marttila.fi/wp-content/uploads/2025/06/lankaterapia.jpg
END:VEVENT
BEGIN:VEVENT
DTSTART;TZID=Europe/Helsinki:20250915T190000
DTEND;TZID=Europe/Helsinki:20250915T200000
DTSTAMP:20260424T185014
CREATED:20250717T064304Z
LAST-MODIFIED:20250717T064426Z
UID:10001257-1757962800-1757966400@marttila.fi
SUMMARY:Ryhmäliikunnan syyskausi alkaa\, ilmainen kokeiluviikko liikuntasalin ryhmissä
DESCRIPTION:RYHMÄLIIKUNTA SYYSKAUSI 2025 \nEnsimmäisellä viikolla 15.9.-21.9.2025 kunnan liikuntasalin ryhmiin voi tulla ilmaiseksi kokeilemaan ilman ilmoittautumista! Huom: Ei koske kuntosaliryhmiä tilan rajallisuuden vuoksi.  \n\nRyhmiin ilmoittaudutaan ennakkoon kunnan nettisivuilta\nSyyskausi 15.9.-14.12.2025 (syyslomaviikko 42 ei tunteja) / Kevätkausi 12.1.-26.4.2026 (talvilomaviikko 8 ei tunteja)\nSyksyllä ilmoittautuneet siirtyvät automaattisesti keväälle. Ilmoita viimeistään 1.2.2026 mennessä\, jos et ole jatkamassa ryhmässä.\nRyhmiin mahtuu rajattu määrä osallistujia.\nOsallistuaksesi ryhmäliikuntaan pitää olla aiempien kausien laskut maksettuna.\nOhjaaja päättää tunnit hieman ennen merkattua päättymisaikaa\, jotta vaihto sujuu ongelmitta ja seuraava tunti pääsee alkamaan ajallaan.\nIlmaisiin ryhmiin ei tarvitse ilmoittautua ennakkoonja ne ovat vapaaehtoisten vetämiä. Poikkeuksena venyttelyssä on palkattu ja ammattitaitoinen ohjaaja.\nVenyttely on kaikille avoin kunnan tarjoama matalankynnyksen tunti\, johon voit tulla aina mukaan. \n\nKunta tarjoaa marttilalaisille ala-astelaisille ilmaisia harrasteryhmiä myös liikunnan parissa. Lisätietoa Harrastamisen Suomen mallin kerhoista löydät kunnan nettisivuilla nuorisopalvelut sivun alta. \nKunnan maksullisten ryhmien hinnat: \n\nRyhmäliikunta 35 €/kevätkausi\nVarttuneiden ryhmät 25 €/kevätkausi\n\nKunnan aikuisten tunnit: \n\nLihaskuntotreeni\, ma klo 19:00-20:00: monipuolinen koko kehon lihaskuntojumppa.\nKuntosaliryhmä – Vapaat painot \,ke 18:00-19:00\, haastavampi ja rankempi ryhmä\, keskittyy perus- ja maksimivoiman kasvattamiseen.\nKuntosaliryhmä – Circuit\, ke klo 19:00-20:00\, harjoitteita pidemmillä sarjoilla ja enimmäkseen kuntosalilaitteilla. Oman kunnon mukaan\, sopii myös aloittelijoille.\nVenyttely \,ke klo 20:00-20:30\, kaikille avoin ja ilmainen matalankynnyksenryhmä\, jossa keskitytään kehonhuoltoon ja venyttelyyn. Ei vaadi ennakkoilmoittautumista\, voit tulla mukaan kesken kaudenkin.\nKuntosaliryhmä– Varttuneet\, to klo 10:00-11:00\, monipuolinen koko kehon treeni lihasvoiman kehittämiseen ja ylläpitoon.\nKevyt lihaskuntotreeni \,pe klo 11:00-12:00\, kevyempiä ja monipuolisia harjoitteita\, jokainen tekee oman kunnon mukaan.\n\nIlmaiset vapaaehtoisten vetämät ryhmät: \n\nVarttuneen miesväen liikuntapiiri\, to klo 16:00-17:30\, varttuneemman porukan treeniryhmä.\nBoccia\, pe klo 13:30-15:30\, eläkeliiton vetämä ryhmä kaikenikäisille pelaajille.\nAikuisten harrastesähly\, pe klo 19:30-21:30\, jokainen on tervetullut taidoista tai kunnosta riippumatta.\n\nMarttilan Murrolla myös aikuisten höntsäryhmä.
URL:https://marttila.fi/tapahtuma/ryhmaliikunnan-syyskausi-alkaa/
LOCATION:Martintalo\, Metsäniityntie 9\, Marttila\, 21490
CATEGORIES:Liikunta
ATTACH;FMTTYPE=image/png:https://marttila.fi/wp-content/uploads/2025/07/Weekly-Lesson-Plan-Calendar-in-Green-White-Botanical-Style-1.png
END:VEVENT
BEGIN:VEVENT
DTSTART;TZID=Europe/Helsinki:20250916T150000
DTEND;TZID=Europe/Helsinki:20250916T200000
DTSTAMP:20260424T185014
CREATED:20250808T110042Z
LAST-MODIFIED:20250808T110042Z
UID:10001284-1758034800-1758052800@marttila.fi
SUMMARY:Palaisten sauna
DESCRIPTION:Palaisten sauna on avoinna. \nSaunan 10x lippuvihkoja 43€ myydään kirjastolla ja kunnantalolla\, \npaikan päällä maksu vain käteisellä ja tasarahalla 5 €. \nSaunomiseen osallistuvan tulee saapua paikan päälle viimeistään klo 19.
URL:https://marttila.fi/tapahtuma/palaisten-sauna-5/2025-09-16/
LOCATION:Palaisten uimapaikka\, Palaistentie 438\, Marttila\, Suomi
CATEGORIES:Ikäihmiset,Lapset ja nuoret,Liikunta,Yleinen
END:VEVENT
END:VCALENDAR