BEGIN:VCALENDAR
VERSION:2.0
PRODID:-//Marttilan kunta - ECPv6.15.18//NONSGML v1.0//EN
CALSCALE:GREGORIAN
METHOD:PUBLISH
X-ORIGINAL-URL:https://marttila.fi
X-WR-CALDESC:Tapahtumat Marttilan kunta
REFRESH-INTERVAL;VALUE=DURATION:PT1H
X-Robots-Tag:noindex
X-PUBLISHED-TTL:PT1H
BEGIN:VTIMEZONE
TZID:Europe/Helsinki
BEGIN:DAYLIGHT
TZOFFSETFROM:+0200
TZOFFSETTO:+0300
TZNAME:EEST
DTSTART:20240331T010000
END:DAYLIGHT
BEGIN:STANDARD
TZOFFSETFROM:+0300
TZOFFSETTO:+0200
TZNAME:EET
DTSTART:20241027T010000
END:STANDARD
BEGIN:DAYLIGHT
TZOFFSETFROM:+0200
TZOFFSETTO:+0300
TZNAME:EEST
DTSTART:20250330T010000
END:DAYLIGHT
BEGIN:STANDARD
TZOFFSETFROM:+0300
TZOFFSETTO:+0200
TZNAME:EET
DTSTART:20251026T010000
END:STANDARD
BEGIN:DAYLIGHT
TZOFFSETFROM:+0200
TZOFFSETTO:+0300
TZNAME:EEST
DTSTART:20260329T010000
END:DAYLIGHT
BEGIN:STANDARD
TZOFFSETFROM:+0300
TZOFFSETTO:+0200
TZNAME:EET
DTSTART:20261025T010000
END:STANDARD
END:VTIMEZONE
BEGIN:VEVENT
DTSTART;TZID=Europe/Helsinki:20250801T140000
DTEND;TZID=Europe/Helsinki:20250801T180000
DTSTAMP:20260426T055356
CREATED:20250701T075958Z
LAST-MODIFIED:20250701T075958Z
UID:10001241-1754056800-1754071200@marttila.fi
SUMMARY:Liikennepuisto avoinna
DESCRIPTION:Tervetuloa testaamaan ilmaiseksi polkuautoja tai pelaamaan minigolfia. Tiistaisin ja perjantaisin isommat lapset voivat tulla ajokortin kanssa ilman huoltajaa\, muistattehan kerrata liikennepuiston säännöt ennen puistoon tuloa. Ajokortteja saatavilla liikennepuistosta aukioloaikoina.\n\n\nKesäaukiolot liikennepuistossa:\nTi klo 11-16\nTo klo 14-18\nPe klo 14-18\nLa klo 13-18\nSu klo 13-18\n\n\nLisätietoa ja säännöt kunnan nettisivuilla: https://marttila.fi/…/liikuntapaikat-ja…/liikennepuisto/
URL:https://marttila.fi/tapahtuma/liikennepuisto-avoinna-3/2025-08-01/
LOCATION:Marttilan liikennepuisto\, Marttilantie 18\, Marttila
CATEGORIES:Lapset ja nuoret,Liikunta
ATTACH;FMTTYPE=image/png:https://marttila.fi/wp-content/uploads/2025/06/lp-aukiolot-1.png
END:VEVENT
BEGIN:VEVENT
DTSTART;TZID=Europe/Helsinki:20250801T170000
DTEND;TZID=Europe/Helsinki:20250801T200000
DTSTAMP:20260426T055356
CREATED:20250701T074031Z
LAST-MODIFIED:20250701T074031Z
UID:10001207-1754067600-1754078400@marttila.fi
SUMMARY:Palaisten saunapäivä
DESCRIPTION:Palaisten sauna ja kioski ovat avoinna 3.8.2025 saakka \nmaanantaisin\, keskiviikkoisin ja perjantaisin klo 17-20 \nlauantaisin ja sunnuntaisin klo 14-18 \nSaunamaksu 5 €\, alle 16-vuotiaat maksutta
URL:https://marttila.fi/tapahtuma/palaisten-saunapaiva-3/2025-08-01/
LOCATION:Palaisten uimapaikka\, Palaistentie 438\, Marttila\, Suomi
CATEGORIES:Ikäihmiset,Kulttuuri,Lapset ja nuoret,Liikunta
ATTACH;FMTTYPE=image/png:https://marttila.fi/wp-content/uploads/2025/06/Sauna-ja-kioski-2025-3.png
END:VEVENT
BEGIN:VEVENT
DTSTART;TZID=Europe/Helsinki:20250802T090000
DTEND;TZID=Europe/Helsinki:20250803T170000
DTSTAMP:20260426T055356
CREATED:20250521T121913Z
LAST-MODIFIED:20250728T090355Z
UID:10001155-1754125200-1754240400@marttila.fi
SUMMARY:Marttilan Kirppisralli 2.8.
DESCRIPTION:Ihana kirppistapahtuma 2.8.2025 Marttilan kunnan alueella. \nKotikirppiksiä\, kahviloita ym. nähtävää. Lauantaina klo 9-17 kaikki kohteet avoinna.\n18 kohdetta auki myös sunnuntaina\, tiedot ja aukioloajat löydät\nKirppisrallikartasta \nPaperikarttoja saatavilla kirjastosta ja Salesta. \nHuom!\n2.8. Marttilassa ovat käynnissä myös matkaratsastuksen pohjoismaiset mestaruuskilpailut.\nReitit kulkevat Heikolan\, Rekoisten ja Simalan suunnilla\, joten toivomme malttia liikenteessä\nerityisesti näillä seuduin. \n  \n 
URL:https://marttila.fi/tapahtuma/kirppisralli-2-3-8/
CATEGORIES:Kulttuuri,Lapset ja nuoret,tori,Yleinen
ATTACH;FMTTYPE=image/png:https://marttila.fi/wp-content/uploads/2025/05/493684734_1225261402820555_9149006464102293672_n-e1752649155532.png
END:VEVENT
BEGIN:VEVENT
DTSTART;TZID=Europe/Helsinki:20250802T130000
DTEND;TZID=Europe/Helsinki:20250802T180000
DTSTAMP:20260426T055356
CREATED:20250701T080129Z
LAST-MODIFIED:20250701T080129Z
UID:10001246-1754139600-1754157600@marttila.fi
SUMMARY:Liikennepuisto avoinna
DESCRIPTION:Tervetuloa testaamaan ilmaiseksi polkuautoja tai pelaamaan minigolfia. Tiistaisin ja perjantaisin isommat lapset voivat tulla ajokortin kanssa ilman huoltajaa\, muistattehan kerrata liikennepuiston säännöt ennen puistoon tuloa. Ajokortteja saatavilla liikennepuistosta aukioloaikoina.\n\n\nKesäaukiolot liikennepuistossa:\nTi klo 11-16\nTo klo 14-18\nPe klo 14-18\nLa klo 13-18\nSu klo 13-18\n\n\nLisätietoa ja säännöt kunnan nettisivuilla: https://marttila.fi/…/liikuntapaikat-ja…/liikennepuisto/
URL:https://marttila.fi/tapahtuma/liikennepuisto-avoinna-4/2025-08-02/
LOCATION:Marttilan liikennepuisto\, Marttilantie 18\, Marttila
CATEGORIES:Lapset ja nuoret,Liikunta
ATTACH;FMTTYPE=image/png:https://marttila.fi/wp-content/uploads/2025/06/lp-aukiolot-1.png
END:VEVENT
BEGIN:VEVENT
DTSTART;TZID=Europe/Helsinki:20250802T140000
DTEND;TZID=Europe/Helsinki:20250802T180000
DTSTAMP:20260426T055356
CREATED:20250701T074249Z
LAST-MODIFIED:20250701T074249Z
UID:10001216-1754143200-1754157600@marttila.fi
SUMMARY:Palaisten saunapäivä
DESCRIPTION:Palaisten sauna ja kioski ovat avoinna 3.8.2025 saakka \nmaanantaisin\, keskiviikkoisin ja perjantaisin klo 17-20 \nlauantaisin ja sunnuntaisin klo 14-18 \nSaunamaksu 5 €\, alle 16-vuotiaat maksutta
URL:https://marttila.fi/tapahtuma/palaisten-saunapaiva-4/2025-08-02/
LOCATION:Palaisten uimapaikka\, Palaistentie 438\, Marttila\, Suomi
CATEGORIES:Ikäihmiset,Kulttuuri,Lapset ja nuoret,Liikunta
ATTACH;FMTTYPE=image/png:https://marttila.fi/wp-content/uploads/2025/06/Sauna-ja-kioski-2025-3.png
END:VEVENT
BEGIN:VEVENT
DTSTART;TZID=Europe/Helsinki:20250802T190000
DTEND;TZID=Europe/Helsinki:20250802T190000
DTSTAMP:20260426T055356
CREATED:20250422T073629Z
LAST-MODIFIED:20250422T073629Z
UID:10001123-1754161200-1754161200@marttila.fi
SUMMARY:Tanssit Laurilan lavalla\, Atlas & Timo Rautala
DESCRIPTION:
URL:https://marttila.fi/tapahtuma/tanssit-laurilan-lavalla-atlas-timo-rautala/
LOCATION:Laurilan Lava\, Salontie 544\, Marttila
CATEGORIES:Liikunta,Musiikki
ORGANIZER;CN="Laurilan pienviljelij%C3%A4in osasto ry":MAILTO:aalto.ilpo@pp.nic.fi
END:VEVENT
BEGIN:VEVENT
DTSTART;TZID=Europe/Helsinki:20250803T130000
DTEND;TZID=Europe/Helsinki:20250803T180000
DTSTAMP:20260426T055356
CREATED:20250701T080239Z
LAST-MODIFIED:20250701T080239Z
UID:10001251-1754226000-1754244000@marttila.fi
SUMMARY:Liikennepuisto avoinna
DESCRIPTION:Tervetuloa testaamaan ilmaiseksi polkuautoja tai pelaamaan minigolfia. Tiistaisin ja perjantaisin isommat lapset voivat tulla ajokortin kanssa ilman huoltajaa\, muistattehan kerrata liikennepuiston säännöt ennen puistoon tuloa. Ajokortteja saatavilla liikennepuistosta aukioloaikoina.\n\n\nKesäaukiolot liikennepuistossa:\nTi klo 11-16\nTo klo 14-18\nPe klo 14-18\nLa klo 13-18\nSu klo 13-18\n\n\nLisätietoa ja säännöt kunnan nettisivuilla: https://marttila.fi/…/liikuntapaikat-ja…/liikennepuisto/
URL:https://marttila.fi/tapahtuma/liikennepuisto-avoinna-5/2025-08-03/
LOCATION:Marttilan liikennepuisto\, Marttilantie 18\, Marttila
CATEGORIES:Lapset ja nuoret,Liikunta
ATTACH;FMTTYPE=image/png:https://marttila.fi/wp-content/uploads/2025/06/lp-aukiolot-1.png
END:VEVENT
BEGIN:VEVENT
DTSTART;TZID=Europe/Helsinki:20250803T140000
DTEND;TZID=Europe/Helsinki:20250803T180000
DTSTAMP:20260426T055356
CREATED:20250701T074431Z
LAST-MODIFIED:20250701T074431Z
UID:10001226-1754229600-1754244000@marttila.fi
SUMMARY:Palaisten saunapäivä
DESCRIPTION:Palaisten sauna ja kioski ovat avoinna 3.8.2025 saakka \nmaanantaisin\, keskiviikkoisin ja perjantaisin klo 17-20 \nlauantaisin ja sunnuntaisin klo 14-18 \nSaunamaksu 5 €\, alle 16-vuotiaat maksutta
URL:https://marttila.fi/tapahtuma/palaisten-saunapaiva-5/2025-08-03/
LOCATION:Palaisten uimapaikka\, Palaistentie 438\, Marttila\, Suomi
CATEGORIES:Ikäihmiset,Kulttuuri,Lapset ja nuoret,Liikunta
ATTACH;FMTTYPE=image/png:https://marttila.fi/wp-content/uploads/2025/06/Sauna-ja-kioski-2025-3.png
END:VEVENT
BEGIN:VEVENT
DTSTART;TZID=Europe/Helsinki:20250804T153000
DTEND;TZID=Europe/Helsinki:20250804T190000
DTSTAMP:20260426T055356
CREATED:20250808T120650Z
LAST-MODIFIED:20250808T120650Z
UID:10001291-1754321400-1754334000@marttila.fi
SUMMARY:Liikennepuisto avoinna
DESCRIPTION:
URL:https://marttila.fi/tapahtuma/liikennepuisto-avoinna-6/
LOCATION:Marttilan liikennepuisto\, Marttilantie 18\, Marttila
CATEGORIES:Lapset ja nuoret,Liikunta
END:VEVENT
BEGIN:VEVENT
DTSTART;TZID=Europe/Helsinki:20250805T150000
DTEND;TZID=Europe/Helsinki:20250805T200000
DTSTAMP:20260426T055356
CREATED:20250808T105352Z
LAST-MODIFIED:20250808T105352Z
UID:10001268-1754406000-1754424000@marttila.fi
SUMMARY:Palaisten sauna
DESCRIPTION:Palaisten sauna on avoinna. \nSaunan 10x lippuvihkoja 43€ myydään kirjastolla ja kunnantalolla\, \npaikan päällä maksu vain käteisellä ja tasarahalla 5 €. \nSaunomiseen osallistuvan tulee saapua paikan päälle viimeistään klo 19.
URL:https://marttila.fi/tapahtuma/palaisten-sauna-3/2025-08-05/
LOCATION:Palaisten uimapaikka\, Palaistentie 438\, Marttila\, Suomi
CATEGORIES:Ikäihmiset,Lapset ja nuoret,Liikunta,Yleinen
END:VEVENT
BEGIN:VEVENT
DTSTART;TZID=Europe/Helsinki:20250805T153000
DTEND;TZID=Europe/Helsinki:20250805T190000
DTSTAMP:20260426T055356
CREATED:20250808T121257Z
LAST-MODIFIED:20250808T121257Z
UID:10001292-1754407800-1754420400@marttila.fi
SUMMARY:Liikennepuisto avoinna
DESCRIPTION:
URL:https://marttila.fi/tapahtuma/liikennepuisto-avoinna-6-2/2025-08-05/
LOCATION:Marttilan liikennepuisto\, Marttilantie 18\, Marttila
CATEGORIES:Lapset ja nuoret,Liikunta
END:VEVENT
BEGIN:VEVENT
DTSTART;TZID=Europe/Helsinki:20250806T153000
DTEND;TZID=Europe/Helsinki:20250806T190000
DTSTAMP:20260426T055356
CREATED:20250808T120802Z
LAST-MODIFIED:20250808T120802Z
UID:10001295-1754494200-1754506800@marttila.fi
SUMMARY:Liikennepuisto avoinna
DESCRIPTION:
URL:https://marttila.fi/tapahtuma/liikennepuisto-avoinna-7/2025-08-06/
LOCATION:Marttilan liikennepuisto\, Marttilantie 18\, Marttila
CATEGORIES:Lapset ja nuoret,Liikunta
END:VEVENT
BEGIN:VEVENT
DTSTART;TZID=Europe/Helsinki:20250807T153000
DTEND;TZID=Europe/Helsinki:20250807T190000
DTSTAMP:20260426T055356
CREATED:20250808T120903Z
LAST-MODIFIED:20250808T120903Z
UID:10001299-1754580600-1754593200@marttila.fi
SUMMARY:Liikennepuisto avoinna
DESCRIPTION:
URL:https://marttila.fi/tapahtuma/liikennepuisto-avoinna-8/2025-08-07/
LOCATION:Marttilan liikennepuisto\, Marttilantie 18\, Marttila
CATEGORIES:Lapset ja nuoret,Liikunta
END:VEVENT
BEGIN:VEVENT
DTSTART;TZID=Europe/Helsinki:20250807T180000
DTEND;TZID=Europe/Helsinki:20250807T190000
DTSTAMP:20260426T055356
CREATED:20250808T065704Z
LAST-MODIFIED:20250808T065704Z
UID:10001266-1754589600-1754593200@marttila.fi
SUMMARY:Vesijumppa
DESCRIPTION:Marttilan Murto vetää vesijumppaa Palaisissa. Sauna käytössä jumppaajille.
URL:https://marttila.fi/tapahtuma/vesijumppa/2025-08-07/
LOCATION:Palaisten uimapaikka\, Palaistentie 438\, Marttila\, Suomi
CATEGORIES:Ikäihmiset,Lapset ja nuoret,Liikunta
END:VEVENT
BEGIN:VEVENT
DTSTART;TZID=Europe/Helsinki:20250808T150000
DTEND;TZID=Europe/Helsinki:20250808T200000
DTSTAMP:20260426T055356
CREATED:20250808T105634Z
LAST-MODIFIED:20250808T105634Z
UID:10001270-1754665200-1754683200@marttila.fi
SUMMARY:Palaisten sauna
DESCRIPTION:Palaisten sauna on avoinna. \nSaunan 10x lippuvihkoja 43€ myydään kirjastolla ja kunnantalolla\, \npaikan päällä maksu vain käteisellä ja tasarahalla 5 €. \nSaunomiseen osallistuvan tulee saapua paikan päälle viimeistään klo 19.
URL:https://marttila.fi/tapahtuma/palaisten-sauna-4/2025-08-08/
LOCATION:Palaisten uimapaikka\, Palaistentie 438\, Marttila\, Suomi
CATEGORIES:Ikäihmiset,Lapset ja nuoret,Liikunta,Yleinen
END:VEVENT
BEGIN:VEVENT
DTSTART;TZID=Europe/Helsinki:20250809T130000
DTEND;TZID=Europe/Helsinki:20250809T180000
DTSTAMP:20260426T055356
CREATED:20250808T121021Z
LAST-MODIFIED:20250808T121021Z
UID:10001303-1754744400-1754762400@marttila.fi
SUMMARY:Liikennepuisto avoinna
DESCRIPTION:
URL:https://marttila.fi/tapahtuma/liikennepuisto-avoinna-9/2025-08-09/
LOCATION:Marttilan liikennepuisto\, Marttilantie 18\, Marttila
CATEGORIES:Lapset ja nuoret,Liikunta
END:VEVENT
BEGIN:VEVENT
DTSTART;TZID=Europe/Helsinki:20250809T190000
DTEND;TZID=Europe/Helsinki:20250809T190000
DTSTAMP:20260426T055356
CREATED:20250422T073729Z
LAST-MODIFIED:20250422T073729Z
UID:10001124-1754766000-1754766000@marttila.fi
SUMMARY:Tanssit Laurilan lavalla\, Jarkko Salmi & Sunset
DESCRIPTION:
URL:https://marttila.fi/tapahtuma/tanssit-laurilan-lavalla-jarkko-salmi-sunset/
LOCATION:Laurilan Lava\, Salontie 544\, Marttila
CATEGORIES:Liikunta,Musiikki
ORGANIZER;CN="Laurilan pienviljelij%C3%A4in osasto ry":MAILTO:aalto.ilpo@pp.nic.fi
END:VEVENT
BEGIN:VEVENT
DTSTART;TZID=Europe/Helsinki:20250810T130000
DTEND;TZID=Europe/Helsinki:20250810T190000
DTSTAMP:20260426T055356
CREATED:20250808T121129Z
LAST-MODIFIED:20250808T121129Z
UID:10001307-1754830800-1754852400@marttila.fi
SUMMARY:Liikennepuisto avoinna
DESCRIPTION:
URL:https://marttila.fi/tapahtuma/liikennepuisto-avoinna-10/2025-08-10/
LOCATION:Marttilan liikennepuisto\, Marttilantie 18\, Marttila
CATEGORIES:Lapset ja nuoret,Liikunta
END:VEVENT
BEGIN:VEVENT
DTSTART;TZID=Europe/Helsinki:20250812T150000
DTEND;TZID=Europe/Helsinki:20250812T200000
DTSTAMP:20260426T055356
CREATED:20250808T105352Z
LAST-MODIFIED:20250808T105352Z
UID:10001269-1755010800-1755028800@marttila.fi
SUMMARY:Palaisten sauna
DESCRIPTION:Palaisten sauna on avoinna. \nSaunan 10x lippuvihkoja 43€ myydään kirjastolla ja kunnantalolla\, \npaikan päällä maksu vain käteisellä ja tasarahalla 5 €. \nSaunomiseen osallistuvan tulee saapua paikan päälle viimeistään klo 19.
URL:https://marttila.fi/tapahtuma/palaisten-sauna-3/2025-08-12/
LOCATION:Palaisten uimapaikka\, Palaistentie 438\, Marttila\, Suomi
CATEGORIES:Ikäihmiset,Lapset ja nuoret,Liikunta,Yleinen
END:VEVENT
BEGIN:VEVENT
DTSTART;TZID=Europe/Helsinki:20250812T153000
DTEND;TZID=Europe/Helsinki:20250812T190000
DTSTAMP:20260426T055356
CREATED:20250808T121257Z
LAST-MODIFIED:20250808T121257Z
UID:10001310-1755012600-1755025200@marttila.fi
SUMMARY:Liikennepuisto avoinna
DESCRIPTION:
URL:https://marttila.fi/tapahtuma/liikennepuisto-avoinna-6-2/2025-08-12/
LOCATION:Marttilan liikennepuisto\, Marttilantie 18\, Marttila
CATEGORIES:Lapset ja nuoret,Liikunta
END:VEVENT
BEGIN:VEVENT
DTSTART;TZID=Europe/Helsinki:20250812T170000
DTEND;TZID=Europe/Helsinki:20250812T190000
DTSTAMP:20260426T055356
CREATED:20250811T103709Z
LAST-MODIFIED:20250811T103709Z
UID:10001313-1755018000-1755025200@marttila.fi
SUMMARY:Suunnistusilta
DESCRIPTION:Tervetuloa kokeilemaan suunnistusta hauskaan non-stop tapahtumaan Marttilassa. \nTapahtuma toimii samalla Hippo-suunnistuskoulu kiertueemme päätöstapahtumana. Mukaan ovat tervetulleita niin uudet kuin jo kokeneemmat suunnistajanalut perheineen. Tapahtuma on suunnattu 5-12 -vuotiaille ja osallistuminen on ilmaista. Menossa mukana @opvakka-auranmaa. \nEnnakkoilmoittautumista ei vaadita. TI 12.8. klo 17-19 Marttilan koululla (Metsäniityntie 11) \nOhjelmassa muun muassa helppoja lasten suunnistusratoja\, leimausrata\, karttamerkkibingo \nJärjestäjänä Rasti 88
URL:https://marttila.fi/tapahtuma/suunnistusilta/
LOCATION:Marttilan koulu\, Metsäniityntie 11\, Marttila\, 21490\, Suomi
CATEGORIES:Lapset ja nuoret,Liikunta
END:VEVENT
BEGIN:VEVENT
DTSTART;TZID=Europe/Helsinki:20250813T153000
DTEND;TZID=Europe/Helsinki:20250813T190000
DTSTAMP:20260426T055356
CREATED:20250808T120802Z
LAST-MODIFIED:20250808T120802Z
UID:10001296-1755099000-1755111600@marttila.fi
SUMMARY:Liikennepuisto avoinna
DESCRIPTION:
URL:https://marttila.fi/tapahtuma/liikennepuisto-avoinna-7/2025-08-13/
LOCATION:Marttilan liikennepuisto\, Marttilantie 18\, Marttila
CATEGORIES:Lapset ja nuoret,Liikunta
END:VEVENT
BEGIN:VEVENT
DTSTART;TZID=Europe/Helsinki:20250814T153000
DTEND;TZID=Europe/Helsinki:20250814T190000
DTSTAMP:20260426T055356
CREATED:20250808T120903Z
LAST-MODIFIED:20250808T120903Z
UID:10001300-1755185400-1755198000@marttila.fi
SUMMARY:Liikennepuisto avoinna
DESCRIPTION:
URL:https://marttila.fi/tapahtuma/liikennepuisto-avoinna-8/2025-08-14/
LOCATION:Marttilan liikennepuisto\, Marttilantie 18\, Marttila
CATEGORIES:Lapset ja nuoret,Liikunta
END:VEVENT
BEGIN:VEVENT
DTSTART;TZID=Europe/Helsinki:20250814T180000
DTEND;TZID=Europe/Helsinki:20250814T190000
DTSTAMP:20260426T055356
CREATED:20250808T065704Z
LAST-MODIFIED:20250808T065704Z
UID:10001267-1755194400-1755198000@marttila.fi
SUMMARY:Vesijumppa
DESCRIPTION:Marttilan Murto vetää vesijumppaa Palaisissa. Sauna käytössä jumppaajille.
URL:https://marttila.fi/tapahtuma/vesijumppa/2025-08-14/
LOCATION:Palaisten uimapaikka\, Palaistentie 438\, Marttila\, Suomi
CATEGORIES:Ikäihmiset,Lapset ja nuoret,Liikunta
END:VEVENT
BEGIN:VEVENT
DTSTART;TZID=Europe/Helsinki:20250815T150000
DTEND;TZID=Europe/Helsinki:20250815T200000
DTSTAMP:20260426T055356
CREATED:20250808T105634Z
LAST-MODIFIED:20250808T105634Z
UID:10001271-1755270000-1755288000@marttila.fi
SUMMARY:Palaisten sauna
DESCRIPTION:Palaisten sauna on avoinna. \nSaunan 10x lippuvihkoja 43€ myydään kirjastolla ja kunnantalolla\, \npaikan päällä maksu vain käteisellä ja tasarahalla 5 €. \nSaunomiseen osallistuvan tulee saapua paikan päälle viimeistään klo 19.
URL:https://marttila.fi/tapahtuma/palaisten-sauna-4/2025-08-15/
LOCATION:Palaisten uimapaikka\, Palaistentie 438\, Marttila\, Suomi
CATEGORIES:Ikäihmiset,Lapset ja nuoret,Liikunta,Yleinen
END:VEVENT
BEGIN:VEVENT
DTSTART;TZID=Europe/Helsinki:20250816T130000
DTEND;TZID=Europe/Helsinki:20250816T180000
DTSTAMP:20260426T055356
CREATED:20250808T121021Z
LAST-MODIFIED:20250808T121021Z
UID:10001304-1755349200-1755367200@marttila.fi
SUMMARY:Liikennepuisto avoinna
DESCRIPTION:
URL:https://marttila.fi/tapahtuma/liikennepuisto-avoinna-9/2025-08-16/
LOCATION:Marttilan liikennepuisto\, Marttilantie 18\, Marttila
CATEGORIES:Lapset ja nuoret,Liikunta
END:VEVENT
BEGIN:VEVENT
DTSTART;TZID=Europe/Helsinki:20250816T190000
DTEND;TZID=Europe/Helsinki:20250816T190000
DTSTAMP:20260426T055356
CREATED:20250422T073845Z
LAST-MODIFIED:20250422T073845Z
UID:10001125-1755370800-1755370800@marttila.fi
SUMMARY:Tanssit Laurilan lavalla\, Anniina Suhonen
DESCRIPTION:
URL:https://marttila.fi/tapahtuma/tanssit-laurilan-lavalla-anniina-suhonen/
LOCATION:Laurilan Lava\, Salontie 544\, Marttila
CATEGORIES:Liikunta,Musiikki
ORGANIZER;CN="Laurilan pienviljelij%C3%A4in osasto ry":MAILTO:aalto.ilpo@pp.nic.fi
END:VEVENT
BEGIN:VEVENT
DTSTART;TZID=Europe/Helsinki:20250817T130000
DTEND;TZID=Europe/Helsinki:20250817T190000
DTSTAMP:20260426T055356
CREATED:20250808T121129Z
LAST-MODIFIED:20250808T121129Z
UID:10001308-1755435600-1755457200@marttila.fi
SUMMARY:Liikennepuisto avoinna
DESCRIPTION:
URL:https://marttila.fi/tapahtuma/liikennepuisto-avoinna-10/2025-08-17/
LOCATION:Marttilan liikennepuisto\, Marttilantie 18\, Marttila
CATEGORIES:Lapset ja nuoret,Liikunta
END:VEVENT
BEGIN:VEVENT
DTSTART;TZID=Europe/Helsinki:20250818T163000
DTEND;TZID=Europe/Helsinki:20250818T190000
DTSTAMP:20260426T055356
CREATED:20250602T114041Z
LAST-MODIFIED:20250915T152058Z
UID:10001328-1755534600-1755543600@marttila.fi
SUMMARY:Lankaterapiaa-neulontapiiri
DESCRIPTION:Lankaterapiaa-neulontapiiri kokoontuu Marttilan kirjastossa maanantaisin klo 16.30-19. Vapaa pääsy\, omat langat ja puikot mukaan. Tervetuloa!
URL:https://marttila.fi/tapahtuma/lankaterapiaa-neulontapiiri/2025-08-18/
LOCATION:Marttilan kirjasto\, Härkätie 723\, Marttila\, 21490\, Suomi
ATTACH;FMTTYPE=image/jpeg:https://marttila.fi/wp-content/uploads/2025/06/lankaterapia.jpg
END:VEVENT
BEGIN:VEVENT
DTSTART;TZID=Europe/Helsinki:20250819T153000
DTEND;TZID=Europe/Helsinki:20250819T190000
DTSTAMP:20260426T055356
CREATED:20250808T121257Z
LAST-MODIFIED:20250808T121257Z
UID:10001311-1755617400-1755630000@marttila.fi
SUMMARY:Liikennepuisto avoinna
DESCRIPTION:
URL:https://marttila.fi/tapahtuma/liikennepuisto-avoinna-6-2/2025-08-19/
LOCATION:Marttilan liikennepuisto\, Marttilantie 18\, Marttila
CATEGORIES:Lapset ja nuoret,Liikunta
END:VEVENT
END:VCALENDAR