BEGIN:VCALENDAR
VERSION:2.0
PRODID:-//Marttilan kunta - ECPv6.15.18//NONSGML v1.0//EN
CALSCALE:GREGORIAN
METHOD:PUBLISH
X-WR-CALNAME:Marttilan kunta
X-ORIGINAL-URL:https://marttila.fi
X-WR-CALDESC:Tapahtumat Marttilan kunta
REFRESH-INTERVAL;VALUE=DURATION:PT1H
X-Robots-Tag:noindex
X-PUBLISHED-TTL:PT1H
BEGIN:VTIMEZONE
TZID:Europe/Helsinki
BEGIN:DAYLIGHT
TZOFFSETFROM:+0200
TZOFFSETTO:+0300
TZNAME:EEST
DTSTART:20240331T010000
END:DAYLIGHT
BEGIN:STANDARD
TZOFFSETFROM:+0300
TZOFFSETTO:+0200
TZNAME:EET
DTSTART:20241027T010000
END:STANDARD
BEGIN:DAYLIGHT
TZOFFSETFROM:+0200
TZOFFSETTO:+0300
TZNAME:EEST
DTSTART:20250330T010000
END:DAYLIGHT
BEGIN:STANDARD
TZOFFSETFROM:+0300
TZOFFSETTO:+0200
TZNAME:EET
DTSTART:20251026T010000
END:STANDARD
BEGIN:DAYLIGHT
TZOFFSETFROM:+0200
TZOFFSETTO:+0300
TZNAME:EEST
DTSTART:20260329T010000
END:DAYLIGHT
BEGIN:STANDARD
TZOFFSETFROM:+0300
TZOFFSETTO:+0200
TZNAME:EET
DTSTART:20261025T010000
END:STANDARD
END:VTIMEZONE
BEGIN:VEVENT
DTSTART;TZID=Europe/Helsinki:20250912T140000
DTEND;TZID=Europe/Helsinki:20250912T170000
DTSTAMP:20260423T140556
CREATED:20250902T133636Z
LAST-MODIFIED:20250902T133636Z
UID:10001321-1757685600-1757696400@marttila.fi
SUMMARY:Tekoälykoulutus yrittäjille
DESCRIPTION:  \n\nMarttilan ja Kosken Tl kuntien yrityspalvelut järjestävät alueen yrittäjille suunnatun ilmaisen käytännönläheisen tekoälykoulutuksen perjantaina 12.9.2025 klo 14-17 Kosken Pop Pankin auditoriossa osoitteessa Hämeentie 14\, Koski Tl.\n\n\nKouluttajana toimii Arni Hukari\, jolla on pitkä kokemus tekoälyn hyödyntämisessä liiketoiminnassa. Koulutuksessa opit harjoituksien kautta hyödyntämään tekoälyä omassa liiketoiminnassasi. Ota mukaan oma tietokone / älykännykkä.\n\n\nIlmoittautuminen on nyt avoinna ja viimeinen ilmoittautumispäivä on 10.9.2025.\nIlmoittautumislinkki: https://link.webropol.com/ep/tekoalykoulutuskoskijamarttila\n\n\nTervetuloa!
URL:https://marttila.fi/tapahtuma/tekoalykoulutus-yrittajille/
CATEGORIES:Yrittäjät
ATTACH;FMTTYPE=image/png:https://marttila.fi/wp-content/uploads/2025/09/1.png
ORGANIZER;CN="Elinkeinoasianatuntija Koski Tl ja Marttila":MAILTO:jaakko.salmi@marttila.fi
END:VEVENT
BEGIN:VEVENT
DTSTART;TZID=Europe/Helsinki:20250912T150000
DTEND;TZID=Europe/Helsinki:20250912T200000
DTSTAMP:20260423T140556
CREATED:20250808T105634Z
LAST-MODIFIED:20250808T105634Z
UID:10001274-1757689200-1757707200@marttila.fi
SUMMARY:Palaisten sauna
DESCRIPTION:Palaisten sauna on avoinna. \nSaunan 10x lippuvihkoja 43€ myydään kirjastolla ja kunnantalolla\, \npaikan päällä maksu vain käteisellä ja tasarahalla 5 €. \nSaunomiseen osallistuvan tulee saapua paikan päälle viimeistään klo 19.
URL:https://marttila.fi/tapahtuma/palaisten-sauna-4/2025-09-12/
LOCATION:Palaisten uimapaikka\, Palaistentie 438\, Marttila\, Suomi
CATEGORIES:Ikäihmiset,Lapset ja nuoret,Liikunta,Yleinen
END:VEVENT
BEGIN:VEVENT
DTSTART;TZID=Europe/Helsinki:20250913T190000
DTEND;TZID=Europe/Helsinki:20250913T190000
DTSTAMP:20260423T140556
CREATED:20250422T074258Z
LAST-MODIFIED:20250422T074258Z
UID:10001129-1757790000-1757790000@marttila.fi
SUMMARY:Tanssit Laurilan lavalla\, Janiina Lehtonen & Putkiratio
DESCRIPTION:
URL:https://marttila.fi/tapahtuma/tanssit-laurilan-lavalla-janiina-lehtonen-putkiratio/
LOCATION:Laurilan Lava\, Salontie 544\, Marttila
CATEGORIES:Liikunta,Musiikki
ORGANIZER;CN="Laurilan pienviljelij%C3%A4in osasto ry":MAILTO:aalto.ilpo@pp.nic.fi
END:VEVENT
BEGIN:VEVENT
DTSTART;TZID=Europe/Helsinki:20250915T160000
DTEND;TZID=Europe/Helsinki:20250915T193000
DTSTAMP:20260423T140556
CREATED:20250602T114041Z
LAST-MODIFIED:20250915T152058Z
UID:10001330-1757952000-1757964600@marttila.fi
SUMMARY:Lankaterapiaa-neulontapiiri
DESCRIPTION:Lankaterapiaa-neulontapiiri kokoontuu Marttilan kirjastossa maanantaisin klo 16.30-19. Vapaa pääsy\, omat langat ja puikot mukaan. Tervetuloa!
URL:https://marttila.fi/tapahtuma/lankaterapiaa-neulontapiiri/2025-09-15/
LOCATION:Marttilan kirjasto\, Härkätie 723\, Marttila\, 21490\, Suomi
ATTACH;FMTTYPE=image/jpeg:https://marttila.fi/wp-content/uploads/2025/06/lankaterapia.jpg
END:VEVENT
BEGIN:VEVENT
DTSTART;TZID=Europe/Helsinki:20250915T190000
DTEND;TZID=Europe/Helsinki:20250915T200000
DTSTAMP:20260423T140556
CREATED:20250717T064304Z
LAST-MODIFIED:20250717T064426Z
UID:10001257-1757962800-1757966400@marttila.fi
SUMMARY:Ryhmäliikunnan syyskausi alkaa\, ilmainen kokeiluviikko liikuntasalin ryhmissä
DESCRIPTION:RYHMÄLIIKUNTA SYYSKAUSI 2025 \nEnsimmäisellä viikolla 15.9.-21.9.2025 kunnan liikuntasalin ryhmiin voi tulla ilmaiseksi kokeilemaan ilman ilmoittautumista! Huom: Ei koske kuntosaliryhmiä tilan rajallisuuden vuoksi.  \n\nRyhmiin ilmoittaudutaan ennakkoon kunnan nettisivuilta\nSyyskausi 15.9.-14.12.2025 (syyslomaviikko 42 ei tunteja) / Kevätkausi 12.1.-26.4.2026 (talvilomaviikko 8 ei tunteja)\nSyksyllä ilmoittautuneet siirtyvät automaattisesti keväälle. Ilmoita viimeistään 1.2.2026 mennessä\, jos et ole jatkamassa ryhmässä.\nRyhmiin mahtuu rajattu määrä osallistujia.\nOsallistuaksesi ryhmäliikuntaan pitää olla aiempien kausien laskut maksettuna.\nOhjaaja päättää tunnit hieman ennen merkattua päättymisaikaa\, jotta vaihto sujuu ongelmitta ja seuraava tunti pääsee alkamaan ajallaan.\nIlmaisiin ryhmiin ei tarvitse ilmoittautua ennakkoonja ne ovat vapaaehtoisten vetämiä. Poikkeuksena venyttelyssä on palkattu ja ammattitaitoinen ohjaaja.\nVenyttely on kaikille avoin kunnan tarjoama matalankynnyksen tunti\, johon voit tulla aina mukaan. \n\nKunta tarjoaa marttilalaisille ala-astelaisille ilmaisia harrasteryhmiä myös liikunnan parissa. Lisätietoa Harrastamisen Suomen mallin kerhoista löydät kunnan nettisivuilla nuorisopalvelut sivun alta. \nKunnan maksullisten ryhmien hinnat: \n\nRyhmäliikunta 35 €/kevätkausi\nVarttuneiden ryhmät 25 €/kevätkausi\n\nKunnan aikuisten tunnit: \n\nLihaskuntotreeni\, ma klo 19:00-20:00: monipuolinen koko kehon lihaskuntojumppa.\nKuntosaliryhmä – Vapaat painot \,ke 18:00-19:00\, haastavampi ja rankempi ryhmä\, keskittyy perus- ja maksimivoiman kasvattamiseen.\nKuntosaliryhmä – Circuit\, ke klo 19:00-20:00\, harjoitteita pidemmillä sarjoilla ja enimmäkseen kuntosalilaitteilla. Oman kunnon mukaan\, sopii myös aloittelijoille.\nVenyttely \,ke klo 20:00-20:30\, kaikille avoin ja ilmainen matalankynnyksenryhmä\, jossa keskitytään kehonhuoltoon ja venyttelyyn. Ei vaadi ennakkoilmoittautumista\, voit tulla mukaan kesken kaudenkin.\nKuntosaliryhmä– Varttuneet\, to klo 10:00-11:00\, monipuolinen koko kehon treeni lihasvoiman kehittämiseen ja ylläpitoon.\nKevyt lihaskuntotreeni \,pe klo 11:00-12:00\, kevyempiä ja monipuolisia harjoitteita\, jokainen tekee oman kunnon mukaan.\n\nIlmaiset vapaaehtoisten vetämät ryhmät: \n\nVarttuneen miesväen liikuntapiiri\, to klo 16:00-17:30\, varttuneemman porukan treeniryhmä.\nBoccia\, pe klo 13:30-15:30\, eläkeliiton vetämä ryhmä kaikenikäisille pelaajille.\nAikuisten harrastesähly\, pe klo 19:30-21:30\, jokainen on tervetullut taidoista tai kunnosta riippumatta.\n\nMarttilan Murrolla myös aikuisten höntsäryhmä.
URL:https://marttila.fi/tapahtuma/ryhmaliikunnan-syyskausi-alkaa/
LOCATION:Martintalo\, Metsäniityntie 9\, Marttila\, 21490
CATEGORIES:Liikunta
ATTACH;FMTTYPE=image/png:https://marttila.fi/wp-content/uploads/2025/07/Weekly-Lesson-Plan-Calendar-in-Green-White-Botanical-Style-1.png
END:VEVENT
BEGIN:VEVENT
DTSTART;TZID=Europe/Helsinki:20250916T150000
DTEND;TZID=Europe/Helsinki:20250916T200000
DTSTAMP:20260423T140556
CREATED:20250808T110042Z
LAST-MODIFIED:20250808T110042Z
UID:10001284-1758034800-1758052800@marttila.fi
SUMMARY:Palaisten sauna
DESCRIPTION:Palaisten sauna on avoinna. \nSaunan 10x lippuvihkoja 43€ myydään kirjastolla ja kunnantalolla\, \npaikan päällä maksu vain käteisellä ja tasarahalla 5 €. \nSaunomiseen osallistuvan tulee saapua paikan päälle viimeistään klo 19.
URL:https://marttila.fi/tapahtuma/palaisten-sauna-5/2025-09-16/
LOCATION:Palaisten uimapaikka\, Palaistentie 438\, Marttila\, Suomi
CATEGORIES:Ikäihmiset,Lapset ja nuoret,Liikunta,Yleinen
END:VEVENT
BEGIN:VEVENT
DTSTART;TZID=Europe/Helsinki:20250917T180000
DTEND;TZID=Europe/Helsinki:20250917T183000
DTSTAMP:20260423T140556
CREATED:20250818T160552Z
LAST-MODIFIED:20250818T160552Z
UID:10001315-1758132000-1758133800@marttila.fi
SUMMARY:Marttilan kirjaston satuhetket
DESCRIPTION:Kirjaston satuhetkillä kirjastontäti lukee tuttuja lastenkirjoja\, ja kerätään leimoja satupassiin. Satuhetken kesto on noin puoli tuntia\, ja se sopii kaikenikäisille. Tervetuloa satujen ystävät!
URL:https://marttila.fi/tapahtuma/marttilan-kirjaston-satuhetket/2025-09-17/
LOCATION:Marttilan kirjasto\, Härkätie 723\, Marttila\, 21490\, Suomi
ATTACH;FMTTYPE=image/jpeg:https://marttila.fi/wp-content/uploads/2025/08/satuhetketsyksy2025.jpg
END:VEVENT
BEGIN:VEVENT
DTSTART;TZID=Europe/Helsinki:20250917T200000
DTEND;TZID=Europe/Helsinki:20250917T203000
DTSTAMP:20260423T140556
CREATED:20250717T071156Z
LAST-MODIFIED:20250717T071156Z
UID:10001262-1758139200-1758141000@marttila.fi
SUMMARY:Viikoittainen ilmainen venyttely alkaa
DESCRIPTION:Venyttely on kaikille avoin kunnan tarjoama matalankynnyksen tunti\, johon voit tulla aina mukaan. Venyttely Martintalolla keskiviikkoisin 15.9.-14.12.2025 klo 20:00-20:30. Tervetuloa!
URL:https://marttila.fi/tapahtuma/viikoittainen-ilmainen-venyttely-alkaa/
LOCATION:Martintalo
CATEGORIES:Liikunta
END:VEVENT
BEGIN:VEVENT
DTSTART;TZID=Europe/Helsinki:20250919T150000
DTEND;TZID=Europe/Helsinki:20250919T200000
DTSTAMP:20260423T140556
CREATED:20250808T105634Z
LAST-MODIFIED:20250808T105634Z
UID:10001275-1758294000-1758312000@marttila.fi
SUMMARY:Palaisten sauna
DESCRIPTION:Palaisten sauna on avoinna. \nSaunan 10x lippuvihkoja 43€ myydään kirjastolla ja kunnantalolla\, \npaikan päällä maksu vain käteisellä ja tasarahalla 5 €. \nSaunomiseen osallistuvan tulee saapua paikan päälle viimeistään klo 19.
URL:https://marttila.fi/tapahtuma/palaisten-sauna-4/2025-09-19/
LOCATION:Palaisten uimapaikka\, Palaistentie 438\, Marttila\, Suomi
CATEGORIES:Ikäihmiset,Lapset ja nuoret,Liikunta,Yleinen
END:VEVENT
BEGIN:VEVENT
DTSTART;TZID=Europe/Helsinki:20250920T190000
DTEND;TZID=Europe/Helsinki:20250920T190000
DTSTAMP:20260423T140556
CREATED:20250422T074358Z
LAST-MODIFIED:20250422T074358Z
UID:10001130-1758394800-1758394800@marttila.fi
SUMMARY:Tanssit Laurilan lavalla\, Antti Vainio & Pirkko Pelander
DESCRIPTION:
URL:https://marttila.fi/tapahtuma/tanssit-laurilan-lavalla-antti-vainio-pirkko-pelander/
LOCATION:Laurilan Lava\, Salontie 544\, Marttila
CATEGORIES:Liikunta,Musiikki
ORGANIZER;CN="Laurilan pienviljelij%C3%A4in osasto ry":MAILTO:aalto.ilpo@pp.nic.fi
END:VEVENT
BEGIN:VEVENT
DTSTART;TZID=Europe/Helsinki:20250923T150000
DTEND;TZID=Europe/Helsinki:20250923T200000
DTSTAMP:20260423T140556
CREATED:20250808T110042Z
LAST-MODIFIED:20250808T110042Z
UID:10001285-1758639600-1758657600@marttila.fi
SUMMARY:Palaisten sauna
DESCRIPTION:Palaisten sauna on avoinna. \nSaunan 10x lippuvihkoja 43€ myydään kirjastolla ja kunnantalolla\, \npaikan päällä maksu vain käteisellä ja tasarahalla 5 €. \nSaunomiseen osallistuvan tulee saapua paikan päälle viimeistään klo 19.
URL:https://marttila.fi/tapahtuma/palaisten-sauna-5/2025-09-23/
LOCATION:Palaisten uimapaikka\, Palaistentie 438\, Marttila\, Suomi
CATEGORIES:Ikäihmiset,Lapset ja nuoret,Liikunta,Yleinen
END:VEVENT
BEGIN:VEVENT
DTSTART;TZID=Europe/Helsinki:20250924T173000
DTEND;TZID=Europe/Helsinki:20250924T183000
DTSTAMP:20260423T140556
CREATED:20250911T164619Z
LAST-MODIFIED:20250915T060408Z
UID:10001322-1758735000-1758738600@marttila.fi
SUMMARY:Ilmastokestävä koti ja piha -webinaarisarja
DESCRIPTION:Kaksiosainen avoin webinaari esittelee ratkaisuja pientalojen ja taloyhtiöiden asukkaille muuttuvaan ilmastoon sopeutumiseksi.\n24.9. klo 17.30–18.30 Ratkaisuja omalla pihalla. Asiaa pihan ja puutarhan materiaali- ja kasvivalinnoista\, monimuotoisesta luonnosta ja sadevesien hallitsemisesta puutarhan keinoin.\n1.10 klo 17.30–18.30 Kiinteistön ylläpito ja varautuminen. Aiheina kunnossapidon ja korjaustarpeiden muutokset\, kiinteistön vakuutukset ja luonnonilmiövahingot sekä remonttiratkaisujen laajempi näkökulma.\nKatso tarkempi ohjelma ja ilmoittaudu kuulolle sivulta valonia.fi/kotijapiha. Lomakkeen kautta saat webinaarilinkin sähköpostiisi lähempänä ajankohtaa.\nJärjestäjästä: Valonia on Varsinais-Suomen kuntien yhteinen asiantuntijaorganisaatio\, jonka ydinosaamista ovat ympäristö- ja energia-asiat sekä kestävä kehitys.
URL:https://marttila.fi/tapahtuma/ilmastokestava-koti-ja-piha-webinaarisarja-2/
LOCATION:Webinaari
CATEGORIES:Yleinen,Ympäristö
END:VEVENT
BEGIN:VEVENT
DTSTART;TZID=Europe/Helsinki:20250925T080000
DTEND;TZID=Europe/Helsinki:20250925T090000
DTSTAMP:20260423T140556
CREATED:20250923T091847Z
LAST-MODIFIED:20250923T091847Z
UID:10001342-1758787200-1758790800@marttila.fi
SUMMARY:Yrittäjien aamukahvit Niemitalon Navetta
DESCRIPTION:Yrittäjien aamukahvit 25.9. klo 8.00-9.00 Niemitalon Navetassa Karinaistentie 100. Tarjolla aamiaista.
URL:https://marttila.fi/tapahtuma/yrittajien-aamukahvit-niemitalon-navetta/
LOCATION:Niemitalon Navetta\, Karinaistetie 100\, Marttila\, 21490\, Finland
CATEGORIES:Yrittäjät
ATTACH;FMTTYPE=image/png:https://marttila.fi/wp-content/uploads/2025/09/Aamukahvi-25.9.2025.png
END:VEVENT
BEGIN:VEVENT
DTSTART;TZID=Europe/Helsinki:20250926T150000
DTEND;TZID=Europe/Helsinki:20250926T200000
DTSTAMP:20260423T140556
CREATED:20250808T105634Z
LAST-MODIFIED:20250808T105634Z
UID:10001276-1758898800-1758916800@marttila.fi
SUMMARY:Palaisten sauna
DESCRIPTION:Palaisten sauna on avoinna. \nSaunan 10x lippuvihkoja 43€ myydään kirjastolla ja kunnantalolla\, \npaikan päällä maksu vain käteisellä ja tasarahalla 5 €. \nSaunomiseen osallistuvan tulee saapua paikan päälle viimeistään klo 19.
URL:https://marttila.fi/tapahtuma/palaisten-sauna-4/2025-09-26/
LOCATION:Palaisten uimapaikka\, Palaistentie 438\, Marttila\, Suomi
CATEGORIES:Ikäihmiset,Lapset ja nuoret,Liikunta,Yleinen
END:VEVENT
BEGIN:VEVENT
DTSTART;TZID=Europe/Helsinki:20250927T190000
DTEND;TZID=Europe/Helsinki:20250927T190000
DTSTAMP:20260423T140556
CREATED:20250422T074518Z
LAST-MODIFIED:20250422T074518Z
UID:10001131-1758999600-1758999600@marttila.fi
SUMMARY:Tanssit Laurilan lavalla\, Jarkko Salmi Duo
DESCRIPTION:
URL:https://marttila.fi/tapahtuma/tanssit-laurilan-lavalla-jarkko-salmi-duo/
LOCATION:Laurilan Lava\, Salontie 544\, Marttila
CATEGORIES:Liikunta,Musiikki
ORGANIZER;CN="Laurilan pienviljelij%C3%A4in osasto ry":MAILTO:aalto.ilpo@pp.nic.fi
END:VEVENT
BEGIN:VEVENT
DTSTART;TZID=Europe/Helsinki:20250929T163000
DTEND;TZID=Europe/Helsinki:20250929T190000
DTSTAMP:20260423T140556
CREATED:20250602T114041Z
LAST-MODIFIED:20250915T152058Z
UID:10001331-1759163400-1759172400@marttila.fi
SUMMARY:Lankaterapiaa-neulontapiiri
DESCRIPTION:Lankaterapiaa-neulontapiiri kokoontuu Marttilan kirjastossa maanantaisin klo 16.30-19. Vapaa pääsy\, omat langat ja puikot mukaan. Tervetuloa!
URL:https://marttila.fi/tapahtuma/lankaterapiaa-neulontapiiri/2025-09-29/
LOCATION:Marttilan kirjasto\, Härkätie 723\, Marttila\, 21490\, Suomi
ATTACH;FMTTYPE=image/jpeg:https://marttila.fi/wp-content/uploads/2025/06/lankaterapia.jpg
END:VEVENT
BEGIN:VEVENT
DTSTART;TZID=Europe/Helsinki:20250930T150000
DTEND;TZID=Europe/Helsinki:20250930T200000
DTSTAMP:20260423T140556
CREATED:20250808T110042Z
LAST-MODIFIED:20250808T110042Z
UID:10001286-1759244400-1759262400@marttila.fi
SUMMARY:Palaisten sauna
DESCRIPTION:Palaisten sauna on avoinna. \nSaunan 10x lippuvihkoja 43€ myydään kirjastolla ja kunnantalolla\, \npaikan päällä maksu vain käteisellä ja tasarahalla 5 €. \nSaunomiseen osallistuvan tulee saapua paikan päälle viimeistään klo 19.
URL:https://marttila.fi/tapahtuma/palaisten-sauna-5/2025-09-30/
LOCATION:Palaisten uimapaikka\, Palaistentie 438\, Marttila\, Suomi
CATEGORIES:Ikäihmiset,Lapset ja nuoret,Liikunta,Yleinen
END:VEVENT
BEGIN:VEVENT
DTSTART;TZID=Europe/Helsinki:20251001T090000
DTEND;TZID=Europe/Helsinki:20251001T113000
DTSTAMP:20260423T140556
CREATED:20250626T075141Z
LAST-MODIFIED:20250626T082130Z
UID:10001164-1759309200-1759318200@marttila.fi
SUMMARY:Wertaisliikuntakaveri-koulutus
DESCRIPTION:Wertaisliikuntakaveri-koulutus Martintalolla ke 1.10.2022 klo 9:00-11:30. \nLähde mukaan wertaisliikuntakaveri-toimintaan matalalla kynnyksellä. Saat tästä koulutuksesta rohkeutta ja uskallusta toimia esim. kauppareissukaverina\, ulkoilukaverina tai vaikka naapuruston asukkaiden liikuttajana. Tämä kiva koulutus on sinulle lietolainen tai marttilalainen\, jos sinulla on vähänkin aikaa ja sydäntä auttaa apua tarvitsevia esim. naapuria\, ystävää tai puolisoa. Jos et pääse tähän koulutukseen\, mutta tämä toiminta kiinnostaa\, niin ilmiannathan itsesi kuntasi liikuntapalveluihin. Koulutus on ilmainen ja ei sido sinua mihinkään säännölliseen toimintaan eli mukaan vaan. \nIlmoittautuminen: https://link.webropol.com/ep/wertais \nLisätietoja: anniina.bergfors@marttila.fi \, 0447449410
URL:https://marttila.fi/tapahtuma/wertaisliikuntakaveri-koulutus/
LOCATION:Martintalo\, Metsäniityntie 9\, Marttila\, 21490
CATEGORIES:Ikäihmiset,Liikunta
ATTACH;FMTTYPE=image/png:https://marttila.fi/wp-content/uploads/2025/06/Orange-and-White-Modern-Goa-Travel-Instagram-Post.png
END:VEVENT
BEGIN:VEVENT
DTSTART;TZID=Europe/Helsinki:20251001T113000
DTEND;TZID=Europe/Helsinki:20251001T123000
DTSTAMP:20260423T140556
CREATED:20250717T070205Z
LAST-MODIFIED:20250717T070205Z
UID:10001260-1759318200-1759321800@marttila.fi
SUMMARY:Ulkoilua Wertaisliikuntakavereiden kanssa
DESCRIPTION:Lähtö ulkoilemaan vapaaehtoisten Wertaisliikuntakavereiden kanssa\, tule rohkeasti mukaan! Liikkuminen tapahtuu ulkona.
URL:https://marttila.fi/tapahtuma/ulkoilua-wertaisliikuntakavereiden-kanssa-2/
LOCATION:Huvila\, Härkätie 723\, Härkätie 723
CATEGORIES:Liikunta
ATTACH;FMTTYPE=image/png:https://marttila.fi/wp-content/uploads/2025/07/Wertaisliikuntakaverit-1.png
END:VEVENT
BEGIN:VEVENT
DTSTART;TZID=Europe/Helsinki:20251001T170000
DTEND;TZID=Europe/Helsinki:20251001T183000
DTSTAMP:20260423T140556
CREATED:20250916T083344Z
LAST-MODIFIED:20250916T083344Z
UID:10001339-1759338000-1759343400@marttila.fi
SUMMARY:Studia Generalia -luennot
DESCRIPTION:
URL:https://marttila.fi/tapahtuma/studia-generalia-luennot/2025-10-01/
LOCATION:Marttilan kirjasto\, Härkätie 723\, Marttila\, 21490\, Suomi
ATTACH;FMTTYPE=image/jpeg:https://marttila.fi/wp-content/uploads/2025/09/studiageneraliasyksy2025.jpg
END:VEVENT
BEGIN:VEVENT
DTSTART;TZID=Europe/Helsinki:20251001T173000
DTEND;TZID=Europe/Helsinki:20251001T183000
DTSTAMP:20260423T140556
CREATED:20250915T060844Z
LAST-MODIFIED:20250915T060844Z
UID:10001325-1759339800-1759343400@marttila.fi
SUMMARY:Ilmastokestävä koti ja piha -webinaarisarja
DESCRIPTION:Kaksiosainen avoin webinaari esittelee ratkaisuja pientalojen ja taloyhtiöiden asukkaille muuttuvaan ilmastoon sopeutumiseksi.\n24.9. klo 17.30–18.30 Ratkaisuja omalla pihalla. Asiaa pihan ja puutarhan materiaali- ja kasvivalinnoista\, monimuotoisesta luonnosta ja sadevesien hallitsemisesta puutarhan keinoin.\n1.10 klo 17.30–18.30 Kiinteistön ylläpito ja varautuminen. Aiheina kunnossapidon ja korjaustarpeiden muutokset\, kiinteistön vakuutukset ja luonnonilmiövahingot sekä remonttiratkaisujen laajempi näkökulma.\nKatso tarkempi ohjelma ja ilmoittaudu kuulolle sivulta valonia.fi/kotijapiha. Lomakkeen kautta saat webinaarilinkin sähköpostiisi lähempänä ajankohtaa.\nJärjestäjästä: Valonia on Varsinais-Suomen kuntien yhteinen asiantuntijaorganisaatio\, jonka ydinosaamista ovat ympäristö- ja energia-asiat sekä kestävä kehitys.
URL:https://marttila.fi/tapahtuma/ilmastokestava-koti-ja-piha-webinaarisarja/
LOCATION:Webinaari
CATEGORIES:Yleinen,Ympäristö
END:VEVENT
BEGIN:VEVENT
DTSTART;TZID=Europe/Helsinki:20251003T150000
DTEND;TZID=Europe/Helsinki:20251003T200000
DTSTAMP:20260423T140556
CREATED:20250808T105634Z
LAST-MODIFIED:20250808T105634Z
UID:10001277-1759503600-1759521600@marttila.fi
SUMMARY:Palaisten sauna
DESCRIPTION:Palaisten sauna on avoinna. \nSaunan 10x lippuvihkoja 43€ myydään kirjastolla ja kunnantalolla\, \npaikan päällä maksu vain käteisellä ja tasarahalla 5 €. \nSaunomiseen osallistuvan tulee saapua paikan päälle viimeistään klo 19.
URL:https://marttila.fi/tapahtuma/palaisten-sauna-4/2025-10-03/
LOCATION:Palaisten uimapaikka\, Palaistentie 438\, Marttila\, Suomi
CATEGORIES:Ikäihmiset,Lapset ja nuoret,Liikunta,Yleinen
END:VEVENT
BEGIN:VEVENT
DTSTART;TZID=Europe/Helsinki:20251004T100000
DTEND;TZID=Europe/Helsinki:20251004T140000
DTSTAMP:20260423T140556
CREATED:20251001T123219Z
LAST-MODIFIED:20251001T123219Z
UID:10001345-1759572000-1759586400@marttila.fi
SUMMARY:Marttilan Lähituottajatori 4.10.2025
DESCRIPTION:Tervetuloa ostoksille Marttilan kirjaston parkkipaikalle! \n Tarjan Tuoreet pitää kahvilaa sekä paistaa paikan päällä munkkeja \nMyynnissä mm. Maistuvia suolaisia ja makeita leivonnaisia Naudanlihatuotteita Ihania käsitöitä Mausteita Kierrätysmateriaaleista tehtyjä uniikkeja käsitöitä
URL:https://marttila.fi/tapahtuma/marttilan-lahituottajatori-4-10-2025/
LOCATION:Marttilan kirjasto\, Härkätie 723\, Marttila\, 21490\, Suomi
CATEGORIES:Yleinen
ATTACH;FMTTYPE=image/jpeg:https://marttila.fi/wp-content/uploads/2025/10/Lahituottajatori.jpg
END:VEVENT
BEGIN:VEVENT
DTSTART;TZID=Europe/Helsinki:20251006T130000
DTEND;TZID=Europe/Helsinki:20251006T143000
DTSTAMP:20260423T140556
CREATED:20250422T135751Z
LAST-MODIFIED:20250422T135751Z
UID:10001142-1759755600-1759761000@marttila.fi
SUMMARY:Liikkuva resurssikeskus senioreille
DESCRIPTION:Varhan liikkuva resurssikeskus senioreille piipahtaa Marttilassa sote-aseman pihalla. \nMukana matkassa Varhan ikääntyneiden palveluohjaaja \nLiikkuva resurssikeskus tuo järjestöjen ja julkisen puolen yhteistyönä neuvonnan ja palveluohjauksen ihmisten arkisiin ympäristöihin lähelle koteja. Tarjoamme senioreille ja heidän läheisilleen tietoa V-S hyvinvointialueen\, kunnan sekä järjestöjen palveluista\, eri tahojen tarjoamista tekemisen vinkeistä sekä vapaaehtoistoiminnan mahdollisuuksista. Ajoittain pysäkeillämme on jokin erityinen neuvontateema\, kuten muisti-\, tuki- ja liikuntaelimistön terveys tai yksinäisyyden lieventäminen. Tiedonkulku on kahdensuuntaista: viemme senioreille tietoa ja samalla keräämme alueellisia kuulumisia eri tahoille toimitettavaksi. \n 
URL:https://marttila.fi/tapahtuma/liikkuva-resurssikeskus-senioreille/
LOCATION:Sosiaali- ja terveysasema\, Kirkkotie 2\, Marttila\, 21490
CATEGORIES:Ikäihmiset
END:VEVENT
BEGIN:VEVENT
DTSTART;TZID=Europe/Helsinki:20251007T150000
DTEND;TZID=Europe/Helsinki:20251007T200000
DTSTAMP:20260423T140556
CREATED:20250808T110042Z
LAST-MODIFIED:20250808T110042Z
UID:10001287-1759849200-1759867200@marttila.fi
SUMMARY:Palaisten sauna
DESCRIPTION:Palaisten sauna on avoinna. \nSaunan 10x lippuvihkoja 43€ myydään kirjastolla ja kunnantalolla\, \npaikan päällä maksu vain käteisellä ja tasarahalla 5 €. \nSaunomiseen osallistuvan tulee saapua paikan päälle viimeistään klo 19.
URL:https://marttila.fi/tapahtuma/palaisten-sauna-5/2025-10-07/
LOCATION:Palaisten uimapaikka\, Palaistentie 438\, Marttila\, Suomi
CATEGORIES:Ikäihmiset,Lapset ja nuoret,Liikunta,Yleinen
END:VEVENT
BEGIN:VEVENT
DTSTART;TZID=Europe/Helsinki:20251008T170000
DTEND;TZID=Europe/Helsinki:20251008T183000
DTSTAMP:20260423T140556
CREATED:20250916T083344Z
LAST-MODIFIED:20250916T083344Z
UID:10001340-1759942800-1759948200@marttila.fi
SUMMARY:Studia Generalia -luennot
DESCRIPTION:
URL:https://marttila.fi/tapahtuma/studia-generalia-luennot/2025-10-08/
LOCATION:Marttilan kirjasto\, Härkätie 723\, Marttila\, 21490\, Suomi
ATTACH;FMTTYPE=image/jpeg:https://marttila.fi/wp-content/uploads/2025/09/studiageneraliasyksy2025.jpg
END:VEVENT
BEGIN:VEVENT
DTSTART;TZID=Europe/Helsinki:20251010T150000
DTEND;TZID=Europe/Helsinki:20251010T200000
DTSTAMP:20260423T140556
CREATED:20250808T105634Z
LAST-MODIFIED:20250808T105634Z
UID:10001278-1760108400-1760126400@marttila.fi
SUMMARY:Palaisten sauna
DESCRIPTION:Palaisten sauna on avoinna. \nSaunan 10x lippuvihkoja 43€ myydään kirjastolla ja kunnantalolla\, \npaikan päällä maksu vain käteisellä ja tasarahalla 5 €. \nSaunomiseen osallistuvan tulee saapua paikan päälle viimeistään klo 19.
URL:https://marttila.fi/tapahtuma/palaisten-sauna-4/2025-10-10/
LOCATION:Palaisten uimapaikka\, Palaistentie 438\, Marttila\, Suomi
CATEGORIES:Ikäihmiset,Lapset ja nuoret,Liikunta,Yleinen
END:VEVENT
BEGIN:VEVENT
DTSTART;TZID=Europe/Helsinki:20251013T163000
DTEND;TZID=Europe/Helsinki:20251013T190000
DTSTAMP:20260423T140556
CREATED:20250602T114041Z
LAST-MODIFIED:20250915T152058Z
UID:10001332-1760373000-1760382000@marttila.fi
SUMMARY:Lankaterapiaa-neulontapiiri
DESCRIPTION:Lankaterapiaa-neulontapiiri kokoontuu Marttilan kirjastossa maanantaisin klo 16.30-19. Vapaa pääsy\, omat langat ja puikot mukaan. Tervetuloa!
URL:https://marttila.fi/tapahtuma/lankaterapiaa-neulontapiiri/2025-10-13/
LOCATION:Marttilan kirjasto\, Härkätie 723\, Marttila\, 21490\, Suomi
ATTACH;FMTTYPE=image/jpeg:https://marttila.fi/wp-content/uploads/2025/06/lankaterapia.jpg
END:VEVENT
BEGIN:VEVENT
DTSTART;TZID=Europe/Helsinki:20251014T150000
DTEND;TZID=Europe/Helsinki:20251014T200000
DTSTAMP:20260423T140556
CREATED:20250808T110042Z
LAST-MODIFIED:20250808T110042Z
UID:10001288-1760454000-1760472000@marttila.fi
SUMMARY:Palaisten sauna
DESCRIPTION:Palaisten sauna on avoinna. \nSaunan 10x lippuvihkoja 43€ myydään kirjastolla ja kunnantalolla\, \npaikan päällä maksu vain käteisellä ja tasarahalla 5 €. \nSaunomiseen osallistuvan tulee saapua paikan päälle viimeistään klo 19.
URL:https://marttila.fi/tapahtuma/palaisten-sauna-5/2025-10-14/
LOCATION:Palaisten uimapaikka\, Palaistentie 438\, Marttila\, Suomi
CATEGORIES:Ikäihmiset,Lapset ja nuoret,Liikunta,Yleinen
END:VEVENT
BEGIN:VEVENT
DTSTART;TZID=Europe/Helsinki:20251015T180000
DTEND;TZID=Europe/Helsinki:20251015T183000
DTSTAMP:20260423T140556
CREATED:20250818T160552Z
LAST-MODIFIED:20250818T160552Z
UID:10001316-1760551200-1760553000@marttila.fi
SUMMARY:Marttilan kirjaston satuhetket
DESCRIPTION:Kirjaston satuhetkillä kirjastontäti lukee tuttuja lastenkirjoja\, ja kerätään leimoja satupassiin. Satuhetken kesto on noin puoli tuntia\, ja se sopii kaikenikäisille. Tervetuloa satujen ystävät!
URL:https://marttila.fi/tapahtuma/marttilan-kirjaston-satuhetket/2025-10-15/
LOCATION:Marttilan kirjasto\, Härkätie 723\, Marttila\, 21490\, Suomi
ATTACH;FMTTYPE=image/jpeg:https://marttila.fi/wp-content/uploads/2025/08/satuhetketsyksy2025.jpg
END:VEVENT
END:VCALENDAR