BEGIN:VCALENDAR
VERSION:2.0
PRODID:-//Marttilan kunta - ECPv6.15.18//NONSGML v1.0//EN
CALSCALE:GREGORIAN
METHOD:PUBLISH
X-WR-CALNAME:Marttilan kunta
X-ORIGINAL-URL:https://marttila.fi
X-WR-CALDESC:Tapahtumat Marttilan kunta
REFRESH-INTERVAL;VALUE=DURATION:PT1H
X-Robots-Tag:noindex
X-PUBLISHED-TTL:PT1H
BEGIN:VTIMEZONE
TZID:Europe/Helsinki
BEGIN:DAYLIGHT
TZOFFSETFROM:+0200
TZOFFSETTO:+0300
TZNAME:EEST
DTSTART:20250330T010000
END:DAYLIGHT
BEGIN:STANDARD
TZOFFSETFROM:+0300
TZOFFSETTO:+0200
TZNAME:EET
DTSTART:20251026T010000
END:STANDARD
BEGIN:DAYLIGHT
TZOFFSETFROM:+0200
TZOFFSETTO:+0300
TZNAME:EEST
DTSTART:20260329T010000
END:DAYLIGHT
BEGIN:STANDARD
TZOFFSETFROM:+0300
TZOFFSETTO:+0200
TZNAME:EET
DTSTART:20261025T010000
END:STANDARD
BEGIN:DAYLIGHT
TZOFFSETFROM:+0200
TZOFFSETTO:+0300
TZNAME:EEST
DTSTART:20270328T010000
END:DAYLIGHT
BEGIN:STANDARD
TZOFFSETFROM:+0300
TZOFFSETTO:+0200
TZNAME:EET
DTSTART:20271031T010000
END:STANDARD
END:VTIMEZONE
BEGIN:VEVENT
DTSTART;TZID=Europe/Helsinki:20260424T150000
DTEND;TZID=Europe/Helsinki:20260424T200000
DTSTAMP:20260424T231233
CREATED:20251230T113049Z
LAST-MODIFIED:20260126T142957Z
UID:10001490-1777042800-1777060800@marttila.fi
SUMMARY:Palaisten sauna ja talviuinti
DESCRIPTION:Palaistentie 436\, Marttila \nSaunamaksu 5 €/kerta (varaa tasaraha) tai uimalippu\, alle 16-vuotiaat ilmaiseksi \nMyös SmartumPay ja Epassi -maksut käyvät\, valitse maksun saajaksi Palaisten sauna ja merkkaa listaan Smartum tai Epassi maksusi mukaan. \nUimalippuja kunnantalolta aukioloaikoina tai sovitusti aukioloaikojen ulkopuolella. \nErikoissaunojen yhteydessä uimalippujen myyntiä myös Palaisissa.
URL:https://marttila.fi/tapahtuma/palaisten-sauna-ja-talviuinti/2026-04-24/
LOCATION:Palaisten uimapaikka\, Palaistentie 438\, Marttila\, Suomi
CATEGORIES:Ikäihmiset,Kulttuuri,Lapset ja nuoret,Liikunta
ATTACH;FMTTYPE=image/jpeg:https://marttila.fi/wp-content/uploads/2025/12/palaisten-portaat.jpg
END:VEVENT
BEGIN:VEVENT
DTSTART;VALUE=DATE:20260427
DTEND;VALUE=DATE:20260501
DTSTAMP:20260424T231233
CREATED:20260325T140240Z
LAST-MODIFIED:20260325T140240Z
UID:10001750-1777248000-1777593599@marttila.fi
SUMMARY:Viherkasvit ja taimet vaihtoon-päivät kirjastossa
DESCRIPTION:
URL:https://marttila.fi/tapahtuma/viherkasvit-ja-taimet-vaihtoon-paivat-kirjastossa/
LOCATION:Marttilan kirjasto\, Härkätie 723\, Marttila\, 21490\, Suomi
ATTACH;FMTTYPE=image/png:https://marttila.fi/wp-content/uploads/2026/03/Viherkasvit-ja-taimet-vaihtoon-2026.png
END:VEVENT
BEGIN:VEVENT
DTSTART;TZID=Europe/Helsinki:20260427T100000
DTEND;TZID=Europe/Helsinki:20260427T110000
DTSTAMP:20260424T231233
CREATED:20260422T151107Z
LAST-MODIFIED:20260424T070845Z
UID:10001814-1777284000-1777287600@marttila.fi
SUMMARY:Kansallinen veteraanipäivä
DESCRIPTION:Kansallista veteraanipäivää vietetään Lapin sodan päättymisen vuosipäivänä 27.4. Juhlistamme veteraanipäivää Marttilassa Marttilan seurakuntatalon veteraanikivellä klo 10. \nOhjelmassa on kukkien lasku\, Marttilan koulun 4. luokkalaisten lauluesitys\, juhlapuhe ja yhteislaulu. \nTervetuloa!
URL:https://marttila.fi/tapahtuma/kansallinen-veteraanipaiva/
LOCATION:Marttilan kirkko\, Kirkkotie 3\, Marttila\, 21490\, Finland
ATTACH;FMTTYPE=image/jpeg:https://marttila.fi/wp-content/uploads/2026/04/jorono-flag-2684761_1920.jpg
END:VEVENT
BEGIN:VEVENT
DTSTART;TZID=Europe/Helsinki:20260428T150000
DTEND;TZID=Europe/Helsinki:20260428T200000
DTSTAMP:20260424T231233
CREATED:20260309T091624Z
LAST-MODIFIED:20260309T091624Z
UID:10001472-1777388400-1777406400@marttila.fi
SUMMARY:Palaisten sauna ja talviuinti
DESCRIPTION:Palaistentie 436\, Marttila \nSaunamaksu 5 €/kerta (varaa tasaraha) tai uimalippu\, alle 16-vuotiaat ilmaiseksi \nMyös SmartumPay ja Epassi -maksut käyvät\, valitse maksun saajaksi Palaisten sauna ja merkkaa listaan Smartum tai Epassi maksusi mukaan. \nUimalippuja kunnantalolta aukioloaikoina tai sovitusti aukioloaikojen ulkopuolella. \nErikoissaunojen yhteydessä uimalippujen myyntiä myös Palaisissa.
URL:https://marttila.fi/tapahtuma/palaisten-sauna-2-2/2026-04-28/
LOCATION:Palaisten uimapaikka\, Palaistentie 438\, Marttila\, Suomi
CATEGORIES:Ikäihmiset,Kulttuuri,Lapset ja nuoret,Liikunta,Yleinen
ATTACH;FMTTYPE=image/jpeg:https://marttila.fi/wp-content/uploads/2025/12/20251010_193828.jpg
END:VEVENT
BEGIN:VEVENT
DTSTART;TZID=Europe/Helsinki:20260429T180000
DTEND;TZID=Europe/Helsinki:20260429T183000
DTSTAMP:20260424T231233
CREATED:20260108T150219Z
LAST-MODIFIED:20260108T150219Z
UID:10001520-1777485600-1777487400@marttila.fi
SUMMARY:Marttilan kirjaston satuhetket
DESCRIPTION:Kirjaston satuhetkillä kirjastontäti lukee tuttuja lastenkirjoja\, ja kerätään leimoja satupassiin. Satuhetken kesto on noin puoli tuntia\, ja se sopii kaikenikäisille. Tervetuloa satujen ystävät!
URL:https://marttila.fi/tapahtuma/marttilan-kirjaston-satuhetket-2/2026-04-29/
LOCATION:Marttilan kirjasto\, Härkätie 723\, Marttila\, 21490\, Suomi
ATTACH;FMTTYPE=image/jpeg:https://marttila.fi/wp-content/uploads/2026/01/satuhetketkevat2026.jpg
END:VEVENT
END:VCALENDAR