BEGIN:VCALENDAR
VERSION:2.0
PRODID:-//Marttilan kunta - ECPv6.15.18//NONSGML v1.0//EN
CALSCALE:GREGORIAN
METHOD:PUBLISH
X-ORIGINAL-URL:https://marttila.fi
X-WR-CALDESC:Tapahtumat Marttilan kunta
REFRESH-INTERVAL;VALUE=DURATION:PT1H
X-Robots-Tag:noindex
X-PUBLISHED-TTL:PT1H
BEGIN:VTIMEZONE
TZID:Europe/Helsinki
BEGIN:DAYLIGHT
TZOFFSETFROM:+0200
TZOFFSETTO:+0300
TZNAME:EEST
DTSTART:20240331T010000
END:DAYLIGHT
BEGIN:STANDARD
TZOFFSETFROM:+0300
TZOFFSETTO:+0200
TZNAME:EET
DTSTART:20241027T010000
END:STANDARD
BEGIN:DAYLIGHT
TZOFFSETFROM:+0200
TZOFFSETTO:+0300
TZNAME:EEST
DTSTART:20250330T010000
END:DAYLIGHT
BEGIN:STANDARD
TZOFFSETFROM:+0300
TZOFFSETTO:+0200
TZNAME:EET
DTSTART:20251026T010000
END:STANDARD
BEGIN:DAYLIGHT
TZOFFSETFROM:+0200
TZOFFSETTO:+0300
TZNAME:EEST
DTSTART:20260329T010000
END:DAYLIGHT
BEGIN:STANDARD
TZOFFSETFROM:+0300
TZOFFSETTO:+0200
TZNAME:EET
DTSTART:20261025T010000
END:STANDARD
END:VTIMEZONE
BEGIN:VEVENT
DTSTART;TZID=Europe/Helsinki:20251006T130000
DTEND;TZID=Europe/Helsinki:20251006T143000
DTSTAMP:20260421T205157
CREATED:20250422T135751Z
LAST-MODIFIED:20250422T135751Z
UID:10001142-1759755600-1759761000@marttila.fi
SUMMARY:Liikkuva resurssikeskus senioreille
DESCRIPTION:Varhan liikkuva resurssikeskus senioreille piipahtaa Marttilassa sote-aseman pihalla. \nMukana matkassa Varhan ikääntyneiden palveluohjaaja \nLiikkuva resurssikeskus tuo järjestöjen ja julkisen puolen yhteistyönä neuvonnan ja palveluohjauksen ihmisten arkisiin ympäristöihin lähelle koteja. Tarjoamme senioreille ja heidän läheisilleen tietoa V-S hyvinvointialueen\, kunnan sekä järjestöjen palveluista\, eri tahojen tarjoamista tekemisen vinkeistä sekä vapaaehtoistoiminnan mahdollisuuksista. Ajoittain pysäkeillämme on jokin erityinen neuvontateema\, kuten muisti-\, tuki- ja liikuntaelimistön terveys tai yksinäisyyden lieventäminen. Tiedonkulku on kahdensuuntaista: viemme senioreille tietoa ja samalla keräämme alueellisia kuulumisia eri tahoille toimitettavaksi. \n 
URL:https://marttila.fi/tapahtuma/liikkuva-resurssikeskus-senioreille/
LOCATION:Sosiaali- ja terveysasema\, Kirkkotie 2\, Marttila\, 21490
CATEGORIES:Ikäihmiset
END:VEVENT
END:VCALENDAR