BEGIN:VCALENDAR
VERSION:2.0
PRODID:-//Marttilan kunta - ECPv6.15.18//NONSGML v1.0//EN
CALSCALE:GREGORIAN
METHOD:PUBLISH
X-WR-CALNAME:Marttilan kunta
X-ORIGINAL-URL:https://marttila.fi
X-WR-CALDESC:Tapahtumat Marttilan kunta
REFRESH-INTERVAL;VALUE=DURATION:PT1H
X-Robots-Tag:noindex
X-PUBLISHED-TTL:PT1H
BEGIN:VTIMEZONE
TZID:Europe/Helsinki
BEGIN:DAYLIGHT
TZOFFSETFROM:+0200
TZOFFSETTO:+0300
TZNAME:EEST
DTSTART:20240331T010000
END:DAYLIGHT
BEGIN:STANDARD
TZOFFSETFROM:+0300
TZOFFSETTO:+0200
TZNAME:EET
DTSTART:20241027T010000
END:STANDARD
BEGIN:DAYLIGHT
TZOFFSETFROM:+0200
TZOFFSETTO:+0300
TZNAME:EEST
DTSTART:20250330T010000
END:DAYLIGHT
BEGIN:STANDARD
TZOFFSETFROM:+0300
TZOFFSETTO:+0200
TZNAME:EET
DTSTART:20251026T010000
END:STANDARD
BEGIN:DAYLIGHT
TZOFFSETFROM:+0200
TZOFFSETTO:+0300
TZNAME:EEST
DTSTART:20260329T010000
END:DAYLIGHT
BEGIN:STANDARD
TZOFFSETFROM:+0300
TZOFFSETTO:+0200
TZNAME:EET
DTSTART:20261025T010000
END:STANDARD
END:VTIMEZONE
BEGIN:VEVENT
DTSTART;TZID=Europe/Helsinki:20250925T080000
DTEND;TZID=Europe/Helsinki:20250925T090000
DTSTAMP:20260422T151242
CREATED:20250923T091847Z
LAST-MODIFIED:20250923T091847Z
UID:10001342-1758787200-1758790800@marttila.fi
SUMMARY:Yrittäjien aamukahvit Niemitalon Navetta
DESCRIPTION:Yrittäjien aamukahvit 25.9. klo 8.00-9.00 Niemitalon Navetassa Karinaistentie 100. Tarjolla aamiaista.
URL:https://marttila.fi/tapahtuma/yrittajien-aamukahvit-niemitalon-navetta/
LOCATION:Niemitalon Navetta\, Karinaistetie 100\, Marttila\, 21490\, Finland
CATEGORIES:Yrittäjät
ATTACH;FMTTYPE=image/png:https://marttila.fi/wp-content/uploads/2025/09/Aamukahvi-25.9.2025.png
END:VEVENT
END:VCALENDAR