BEGIN:VCALENDAR
VERSION:2.0
PRODID:-//Marttilan kunta - ECPv6.15.18//NONSGML v1.0//EN
CALSCALE:GREGORIAN
METHOD:PUBLISH
X-ORIGINAL-URL:https://marttila.fi
X-WR-CALDESC:Tapahtumat Marttilan kunta
REFRESH-INTERVAL;VALUE=DURATION:PT1H
X-Robots-Tag:noindex
X-PUBLISHED-TTL:PT1H
BEGIN:VTIMEZONE
TZID:Europe/Helsinki
BEGIN:DAYLIGHT
TZOFFSETFROM:+0200
TZOFFSETTO:+0300
TZNAME:EEST
DTSTART:20240331T010000
END:DAYLIGHT
BEGIN:STANDARD
TZOFFSETFROM:+0300
TZOFFSETTO:+0200
TZNAME:EET
DTSTART:20241027T010000
END:STANDARD
BEGIN:DAYLIGHT
TZOFFSETFROM:+0200
TZOFFSETTO:+0300
TZNAME:EEST
DTSTART:20250330T010000
END:DAYLIGHT
BEGIN:STANDARD
TZOFFSETFROM:+0300
TZOFFSETTO:+0200
TZNAME:EET
DTSTART:20251026T010000
END:STANDARD
BEGIN:DAYLIGHT
TZOFFSETFROM:+0200
TZOFFSETTO:+0300
TZNAME:EEST
DTSTART:20260329T010000
END:DAYLIGHT
BEGIN:STANDARD
TZOFFSETFROM:+0300
TZOFFSETTO:+0200
TZNAME:EET
DTSTART:20261025T010000
END:STANDARD
END:VTIMEZONE
BEGIN:VEVENT
DTSTART;TZID=Europe/Helsinki:20250909T140000
DTEND;TZID=Europe/Helsinki:20250909T160000
DTSTAMP:20260423T152703
CREATED:20250707T062039Z
LAST-MODIFIED:20250707T062039Z
UID:10001254-1757426400-1757433600@marttila.fi
SUMMARY:Unikoulu
DESCRIPTION:Vaivaako unettomuus? \nMarttilan terveysasemalla toteutetaan unettomuuden hoitoa Unikoulu-mallin avulla. Aikuisten Unikoulu perustuu lääkkeettömiin hoitokeinoihin. Ryhmä kokoontuu\nkuusi kertaa ja ennen ryhmän alkua jokaiselle tehdään henkilökohtainen alkukartoitus. \nSeuraava ryhmä alkaa Marttilan terveysasemalla (Kirkkotie 2)\ntiistaina 9.9.25 klo 14.00–16.00. Lisätietoja Marttilan terveysasema unettomuusterapeutti puh. 02 4873 7227. Ilmoittaudu viimeistään 25.8.25 mennessä. Ryhmä on maksuton. Edennyt muistisairaus on este ryhmään osallistumiselle. \nRyhmään voivat osallistua Marttilan\, Kosken\, Pöytyän\, Auran\, Yläneen\, Oripään\, Kyrön\, Loimaan\, Paimion\,\nSauvon\, Kaarinan ja Liedon alueella asuvat kuntalaiset. Turun yliopisto tekee tutkimusta Unikoulu-mallin tehosta\, tutkimukseen osallistuminen on vapaaehtoista
URL:https://marttila.fi/tapahtuma/unikoulu/
LOCATION:Marttilan terveysasema\, Kirkkotie 2\, Marttila\, 21490\, Finland
ATTACH;FMTTYPE=image/png:https://marttila.fi/wp-content/uploads/2025/07/Sieppaaunikoulu2025.png
END:VEVENT
BEGIN:VEVENT
DTSTART;TZID=Europe/Helsinki:20250909T150000
DTEND;TZID=Europe/Helsinki:20250909T200000
DTSTAMP:20260423T152703
CREATED:20250808T110042Z
LAST-MODIFIED:20250808T110042Z
UID:10001283-1757430000-1757448000@marttila.fi
SUMMARY:Palaisten sauna
DESCRIPTION:Palaisten sauna on avoinna. \nSaunan 10x lippuvihkoja 43€ myydään kirjastolla ja kunnantalolla\, \npaikan päällä maksu vain käteisellä ja tasarahalla 5 €. \nSaunomiseen osallistuvan tulee saapua paikan päälle viimeistään klo 19.
URL:https://marttila.fi/tapahtuma/palaisten-sauna-5/2025-09-09/
LOCATION:Palaisten uimapaikka\, Palaistentie 438\, Marttila\, Suomi
CATEGORIES:Ikäihmiset,Lapset ja nuoret,Liikunta,Yleinen
END:VEVENT
END:VCALENDAR