BEGIN:VCALENDAR
VERSION:2.0
PRODID:-//Marttilan kunta - ECPv6.15.18//NONSGML v1.0//EN
CALSCALE:GREGORIAN
METHOD:PUBLISH
X-ORIGINAL-URL:https://marttila.fi
X-WR-CALDESC:Tapahtumat Marttilan kunta
REFRESH-INTERVAL;VALUE=DURATION:PT1H
X-Robots-Tag:noindex
X-PUBLISHED-TTL:PT1H
BEGIN:VTIMEZONE
TZID:Europe/Helsinki
BEGIN:DAYLIGHT
TZOFFSETFROM:+0200
TZOFFSETTO:+0300
TZNAME:EEST
DTSTART:20240331T010000
END:DAYLIGHT
BEGIN:STANDARD
TZOFFSETFROM:+0300
TZOFFSETTO:+0200
TZNAME:EET
DTSTART:20241027T010000
END:STANDARD
BEGIN:DAYLIGHT
TZOFFSETFROM:+0200
TZOFFSETTO:+0300
TZNAME:EEST
DTSTART:20250330T010000
END:DAYLIGHT
BEGIN:STANDARD
TZOFFSETFROM:+0300
TZOFFSETTO:+0200
TZNAME:EET
DTSTART:20251026T010000
END:STANDARD
BEGIN:DAYLIGHT
TZOFFSETFROM:+0200
TZOFFSETTO:+0300
TZNAME:EEST
DTSTART:20260329T010000
END:DAYLIGHT
BEGIN:STANDARD
TZOFFSETFROM:+0300
TZOFFSETTO:+0200
TZNAME:EET
DTSTART:20261025T010000
END:STANDARD
END:VTIMEZONE
BEGIN:VEVENT
DTSTART;TZID=Europe/Helsinki:20250830T130000
DTEND;TZID=Europe/Helsinki:20250830T180000
DTSTAMP:20260424T064127
CREATED:20250808T121021Z
LAST-MODIFIED:20250808T121021Z
UID:10001306-1756558800-1756576800@marttila.fi
SUMMARY:Liikennepuisto avoinna
DESCRIPTION:
URL:https://marttila.fi/tapahtuma/liikennepuisto-avoinna-9/2025-08-30/
LOCATION:Marttilan liikennepuisto\, Marttilantie 18\, Marttila
CATEGORIES:Lapset ja nuoret,Liikunta
END:VEVENT
BEGIN:VEVENT
DTSTART;TZID=Europe/Helsinki:20250830T183000
DTEND;TZID=Europe/Helsinki:20250830T220000
DTSTAMP:20260424T064127
CREATED:20250717T063908Z
LAST-MODIFIED:20250717T063908Z
UID:10001256-1756578600-1756591200@marttila.fi
SUMMARY:Muinaistulien yö Palaisilla
DESCRIPTION:Muinaistulien yö 30.8.2025 \nSauna lämmin ja grillausta klo 18:30-21:30 \nTulishow klo 21:30 \nSaunamaksu 5 €\, alle 16-vuotiaat ilmaiseksi
URL:https://marttila.fi/tapahtuma/muinaistulien-yo-palaisilla/
LOCATION:Palaisten uimapaikka\, Palaistentie 438\, Marttila\, Suomi
CATEGORIES:Kulttuuri,Liikunta
ATTACH;FMTTYPE=image/png:https://marttila.fi/wp-content/uploads/2025/07/MUINAISTULIEN-1.png
END:VEVENT
BEGIN:VEVENT
DTSTART;TZID=Europe/Helsinki:20250830T190000
DTEND;TZID=Europe/Helsinki:20250830T190000
DTSTAMP:20260424T064127
CREATED:20250422T074050Z
LAST-MODIFIED:20250422T074050Z
UID:10001127-1756580400-1756580400@marttila.fi
SUMMARY:Tanssit Laurilan lavalla\, Aikalisä
DESCRIPTION:
URL:https://marttila.fi/tapahtuma/tanssit-laurilan-lavalla-aikalisa/
LOCATION:Laurilan Lava\, Salontie 544\, Marttila
CATEGORIES:Liikunta,Musiikki
ORGANIZER;CN="Laurilan pienviljelij%C3%A4in osasto ry":MAILTO:aalto.ilpo@pp.nic.fi
END:VEVENT
END:VCALENDAR