BEGIN:VCALENDAR
VERSION:2.0
PRODID:-//Marttilan kunta - ECPv6.15.18//NONSGML v1.0//EN
CALSCALE:GREGORIAN
METHOD:PUBLISH
X-WR-CALNAME:Marttilan kunta
X-ORIGINAL-URL:https://marttila.fi
X-WR-CALDESC:Tapahtumat Marttilan kunta
REFRESH-INTERVAL;VALUE=DURATION:PT1H
X-Robots-Tag:noindex
X-PUBLISHED-TTL:PT1H
BEGIN:VTIMEZONE
TZID:Europe/Helsinki
BEGIN:DAYLIGHT
TZOFFSETFROM:+0200
TZOFFSETTO:+0300
TZNAME:EEST
DTSTART:20240331T010000
END:DAYLIGHT
BEGIN:STANDARD
TZOFFSETFROM:+0300
TZOFFSETTO:+0200
TZNAME:EET
DTSTART:20241027T010000
END:STANDARD
BEGIN:DAYLIGHT
TZOFFSETFROM:+0200
TZOFFSETTO:+0300
TZNAME:EEST
DTSTART:20250330T010000
END:DAYLIGHT
BEGIN:STANDARD
TZOFFSETFROM:+0300
TZOFFSETTO:+0200
TZNAME:EET
DTSTART:20251026T010000
END:STANDARD
BEGIN:DAYLIGHT
TZOFFSETFROM:+0200
TZOFFSETTO:+0300
TZNAME:EEST
DTSTART:20260329T010000
END:DAYLIGHT
BEGIN:STANDARD
TZOFFSETFROM:+0300
TZOFFSETTO:+0200
TZNAME:EET
DTSTART:20261025T010000
END:STANDARD
BEGIN:DAYLIGHT
TZOFFSETFROM:+0200
TZOFFSETTO:+0300
TZNAME:EEST
DTSTART:20270328T010000
END:DAYLIGHT
BEGIN:STANDARD
TZOFFSETFROM:+0300
TZOFFSETTO:+0200
TZNAME:EET
DTSTART:20271031T010000
END:STANDARD
END:VTIMEZONE
BEGIN:VEVENT
DTSTART;TZID=Europe/Helsinki:20260310T100000
DTEND;TZID=Europe/Helsinki:20260310T110000
DTSTAMP:20260421T210431
CREATED:20260309T090702Z
LAST-MODIFIED:20260309T090812Z
UID:10001694-1773136800-1773140400@marttila.fi
SUMMARY:Puristusvoimamittausta ja tasapainoilua
DESCRIPTION:Ti 10.3. klo 10-11. Puristusvoimatestissä mitataan käden puristusvoimaa\, joka yleensä kuvaa hyvin myös yleistä lihasvoimaa. Lihasvoima on yhteydessä liikkumiskykyyn ja päivittäisistä toimista selviytymiseen. Suvirannan palvelukeskus\, Myllypellontie 6
URL:https://marttila.fi/tapahtuma/puristusvoimamittausta-ja-tasapainoilua/
LOCATION:Suvirannan palvelukeskus\, Myllypellontie 6\, MARTTILA\, 21490
END:VEVENT
BEGIN:VEVENT
DTSTART;TZID=Europe/Helsinki:20250903T100000
DTEND;TZID=Europe/Helsinki:20250903T110000
DTSTAMP:20260421T210431
CREATED:20250717T065905Z
LAST-MODIFIED:20250717T065905Z
UID:10001259-1756893600-1756897200@marttila.fi
SUMMARY:Ulkoilua Wertaisliikuntakavereiden kanssa
DESCRIPTION:Lähtö ulkoilemaan vapaaehtoisten Wertaisliikuntakavereiden kanssa\, tule rohkeasti mukaan! Liikkuminen tapahtuu ulkona.
URL:https://marttila.fi/tapahtuma/ulkoilua-wertaisliikuntakavereiden-kanssa/
LOCATION:Huvila\, Härkätie 723\, Härkätie 723
CATEGORIES:Liikunta
ATTACH;FMTTYPE=image/png:https://marttila.fi/wp-content/uploads/2025/07/Wertaisliikuntakaverit-1.png
END:VEVENT
END:VCALENDAR