BEGIN:VCALENDAR
VERSION:2.0
PRODID:-//Marttilan kunta - ECPv6.15.18//NONSGML v1.0//EN
CALSCALE:GREGORIAN
METHOD:PUBLISH
X-WR-CALNAME:Marttilan kunta
X-ORIGINAL-URL:https://marttila.fi
X-WR-CALDESC:Tapahtumat Marttilan kunta
REFRESH-INTERVAL;VALUE=DURATION:PT1H
X-Robots-Tag:noindex
X-PUBLISHED-TTL:PT1H
BEGIN:VTIMEZONE
TZID:Europe/Helsinki
BEGIN:DAYLIGHT
TZOFFSETFROM:+0200
TZOFFSETTO:+0300
TZNAME:EEST
DTSTART:20240331T010000
END:DAYLIGHT
BEGIN:STANDARD
TZOFFSETFROM:+0300
TZOFFSETTO:+0200
TZNAME:EET
DTSTART:20241027T010000
END:STANDARD
BEGIN:DAYLIGHT
TZOFFSETFROM:+0200
TZOFFSETTO:+0300
TZNAME:EEST
DTSTART:20250330T010000
END:DAYLIGHT
BEGIN:STANDARD
TZOFFSETFROM:+0300
TZOFFSETTO:+0200
TZNAME:EET
DTSTART:20251026T010000
END:STANDARD
BEGIN:DAYLIGHT
TZOFFSETFROM:+0200
TZOFFSETTO:+0300
TZNAME:EEST
DTSTART:20260329T010000
END:DAYLIGHT
BEGIN:STANDARD
TZOFFSETFROM:+0300
TZOFFSETTO:+0200
TZNAME:EET
DTSTART:20261025T010000
END:STANDARD
END:VTIMEZONE
BEGIN:VEVENT
DTSTART;TZID=Europe/Helsinki:20250706T130000
DTEND;TZID=Europe/Helsinki:20250706T180000
DTSTAMP:20260419T153148
CREATED:20250701T080239Z
LAST-MODIFIED:20250701T080239Z
UID:10001247-1751806800-1751824800@marttila.fi
SUMMARY:Liikennepuisto avoinna
DESCRIPTION:Tervetuloa testaamaan ilmaiseksi polkuautoja tai pelaamaan minigolfia. Tiistaisin ja perjantaisin isommat lapset voivat tulla ajokortin kanssa ilman huoltajaa\, muistattehan kerrata liikennepuiston säännöt ennen puistoon tuloa. Ajokortteja saatavilla liikennepuistosta aukioloaikoina.\n\n\nKesäaukiolot liikennepuistossa:\nTi klo 11-16\nTo klo 14-18\nPe klo 14-18\nLa klo 13-18\nSu klo 13-18\n\n\nLisätietoa ja säännöt kunnan nettisivuilla: https://marttila.fi/…/liikuntapaikat-ja…/liikennepuisto/
URL:https://marttila.fi/tapahtuma/liikennepuisto-avoinna-5/2025-07-06/
LOCATION:Marttilan liikennepuisto\, Marttilantie 18\, Marttila
CATEGORIES:Lapset ja nuoret,Liikunta
ATTACH;FMTTYPE=image/png:https://marttila.fi/wp-content/uploads/2025/06/lp-aukiolot-1.png
END:VEVENT
BEGIN:VEVENT
DTSTART;TZID=Europe/Helsinki:20250705T130000
DTEND;TZID=Europe/Helsinki:20250705T180000
DTSTAMP:20260419T153148
CREATED:20250701T080129Z
LAST-MODIFIED:20250701T080129Z
UID:10001242-1751720400-1751738400@marttila.fi
SUMMARY:Liikennepuisto avoinna
DESCRIPTION:Tervetuloa testaamaan ilmaiseksi polkuautoja tai pelaamaan minigolfia. Tiistaisin ja perjantaisin isommat lapset voivat tulla ajokortin kanssa ilman huoltajaa\, muistattehan kerrata liikennepuiston säännöt ennen puistoon tuloa. Ajokortteja saatavilla liikennepuistosta aukioloaikoina.\n\n\nKesäaukiolot liikennepuistossa:\nTi klo 11-16\nTo klo 14-18\nPe klo 14-18\nLa klo 13-18\nSu klo 13-18\n\n\nLisätietoa ja säännöt kunnan nettisivuilla: https://marttila.fi/…/liikuntapaikat-ja…/liikennepuisto/
URL:https://marttila.fi/tapahtuma/liikennepuisto-avoinna-4/2025-07-05/
LOCATION:Marttilan liikennepuisto\, Marttilantie 18\, Marttila
CATEGORIES:Lapset ja nuoret,Liikunta
ATTACH;FMTTYPE=image/png:https://marttila.fi/wp-content/uploads/2025/06/lp-aukiolot-1.png
END:VEVENT
BEGIN:VEVENT
DTSTART;TZID=Europe/Helsinki:20250704T140000
DTEND;TZID=Europe/Helsinki:20250704T180000
DTSTAMP:20260419T153148
CREATED:20250701T075958Z
LAST-MODIFIED:20250701T075958Z
UID:10001237-1751637600-1751652000@marttila.fi
SUMMARY:Liikennepuisto avoinna
DESCRIPTION:Tervetuloa testaamaan ilmaiseksi polkuautoja tai pelaamaan minigolfia. Tiistaisin ja perjantaisin isommat lapset voivat tulla ajokortin kanssa ilman huoltajaa\, muistattehan kerrata liikennepuiston säännöt ennen puistoon tuloa. Ajokortteja saatavilla liikennepuistosta aukioloaikoina.\n\n\nKesäaukiolot liikennepuistossa:\nTi klo 11-16\nTo klo 14-18\nPe klo 14-18\nLa klo 13-18\nSu klo 13-18\n\n\nLisätietoa ja säännöt kunnan nettisivuilla: https://marttila.fi/…/liikuntapaikat-ja…/liikennepuisto/
URL:https://marttila.fi/tapahtuma/liikennepuisto-avoinna-3/2025-07-04/
LOCATION:Marttilan liikennepuisto\, Marttilantie 18\, Marttila
CATEGORIES:Lapset ja nuoret,Liikunta
ATTACH;FMTTYPE=image/png:https://marttila.fi/wp-content/uploads/2025/06/lp-aukiolot-1.png
END:VEVENT
BEGIN:VEVENT
DTSTART;TZID=Europe/Helsinki:20250703T140000
DTEND;TZID=Europe/Helsinki:20250703T180000
DTSTAMP:20260419T153148
CREATED:20250701T075142Z
LAST-MODIFIED:20250701T075142Z
UID:10001232-1751551200-1751565600@marttila.fi
SUMMARY:Liikennepuisto avoinna
DESCRIPTION:Tervetuloa testaamaan ilmaiseksi polkuautoja tai pelaamaan minigolfia. Tiistaisin ja perjantaisin isommat lapset voivat tulla ajokortin kanssa ilman huoltajaa\, muistattehan kerrata liikennepuiston säännöt ennen puistoon tuloa. Ajokortteja saatavilla liikennepuistosta aukioloaikoina.\n\n\nKesäaukiolot liikennepuistossa:\nTi klo 11-16\nTo klo 14-18\nPe klo 14-18\nLa klo 13-18\nSu klo 13-18\n\n\nLisätietoa ja säännöt kunnan nettisivuilla: https://marttila.fi/…/liikuntapaikat-ja…/liikennepuisto/
URL:https://marttila.fi/tapahtuma/liikennepuisto-avoinna-2/2025-07-03/
LOCATION:Marttilan liikennepuisto\, Marttilantie 18\, Marttila
CATEGORIES:Lapset ja nuoret,Liikunta
ATTACH;FMTTYPE=image/png:https://marttila.fi/wp-content/uploads/2025/06/lp-aukiolot-1.png
END:VEVENT
BEGIN:VEVENT
DTSTART;TZID=Europe/Helsinki:20250701T110000
DTEND;TZID=Europe/Helsinki:20250701T160000
DTSTAMP:20260419T153148
CREATED:20250701T074934Z
LAST-MODIFIED:20250701T074934Z
UID:10001227-1751367600-1751385600@marttila.fi
SUMMARY:Liikennepuisto avoinna
DESCRIPTION:Tervetuloa testaamaan ilmaiseksi polkuautoja tai pelaamaan minigolfia. Tiistaisin ja perjantaisin isommat lapset voivat tulla ajokortin kanssa ilman huoltajaa\, muistattehan kerrata liikennepuiston säännöt ennen puistoon tuloa. Ajokortteja saatavilla liikennepuistosta aukioloaikoina.\n\n\nKesäaukiolot liikennepuistossa:\nTi klo 11-16\nTo klo 14-18\nPe klo 14-18\nLa klo 13-18\nSu klo 13-18\n\n\nLisätietoa ja säännöt kunnan nettisivuilla: https://marttila.fi/…/liikuntapaikat-ja…/liikennepuisto/
URL:https://marttila.fi/tapahtuma/liikennepuisto-avoinna/2025-07-01/
LOCATION:Marttilan liikennepuisto\, Marttilantie 18\, Marttila
CATEGORIES:Lapset ja nuoret,Liikunta
ATTACH;FMTTYPE=image/png:https://marttila.fi/wp-content/uploads/2025/06/lp-aukiolot-1.png
END:VEVENT
END:VCALENDAR