BEGIN:VCALENDAR
VERSION:2.0
PRODID:-//Marttilan kunta - ECPv6.15.18//NONSGML v1.0//EN
CALSCALE:GREGORIAN
METHOD:PUBLISH
X-WR-CALNAME:Marttilan kunta
X-ORIGINAL-URL:https://marttila.fi
X-WR-CALDESC:Tapahtumat Marttilan kunta
REFRESH-INTERVAL;VALUE=DURATION:PT1H
X-Robots-Tag:noindex
X-PUBLISHED-TTL:PT1H
BEGIN:VTIMEZONE
TZID:Europe/Helsinki
BEGIN:DAYLIGHT
TZOFFSETFROM:+0200
TZOFFSETTO:+0300
TZNAME:EEST
DTSTART:20240331T010000
END:DAYLIGHT
BEGIN:STANDARD
TZOFFSETFROM:+0300
TZOFFSETTO:+0200
TZNAME:EET
DTSTART:20241027T010000
END:STANDARD
BEGIN:DAYLIGHT
TZOFFSETFROM:+0200
TZOFFSETTO:+0300
TZNAME:EEST
DTSTART:20250330T010000
END:DAYLIGHT
BEGIN:STANDARD
TZOFFSETFROM:+0300
TZOFFSETTO:+0200
TZNAME:EET
DTSTART:20251026T010000
END:STANDARD
BEGIN:DAYLIGHT
TZOFFSETFROM:+0200
TZOFFSETTO:+0300
TZNAME:EEST
DTSTART:20260329T010000
END:DAYLIGHT
BEGIN:STANDARD
TZOFFSETFROM:+0300
TZOFFSETTO:+0200
TZNAME:EET
DTSTART:20261025T010000
END:STANDARD
BEGIN:DAYLIGHT
TZOFFSETFROM:+0200
TZOFFSETTO:+0300
TZNAME:EEST
DTSTART:20270328T010000
END:DAYLIGHT
BEGIN:STANDARD
TZOFFSETFROM:+0300
TZOFFSETTO:+0200
TZNAME:EET
DTSTART:20271031T010000
END:STANDARD
END:VTIMEZONE
BEGIN:VEVENT
DTSTART;TZID=Europe/Helsinki:20260312T090000
DTEND;TZID=Europe/Helsinki:20260312T110000
DTSTAMP:20260421T212050
CREATED:20260309T092413Z
LAST-MODIFIED:20260309T092433Z
UID:10001711-1773306000-1773313200@marttila.fi
SUMMARY:Lauluryhmä\, eläkeliitto
DESCRIPTION:To 12.3. klo 9-11 Lauluryhmä\, viikoittain.\nLauletaan ja nauretaan\, tervetuloa!\nHuvila\, Härkätie 723 (Eläkeliitto)
URL:https://marttila.fi/tapahtuma/lauluryhma-elakeliitto/
LOCATION:Huvila\, Härkätie 723\, Härkätie 723
CATEGORIES:Ikäihmiset
END:VEVENT
BEGIN:VEVENT
DTSTART;TZID=Europe/Helsinki:20260309T103000
DTEND;TZID=Europe/Helsinki:20260309T110000
DTSTAMP:20260421T212050
CREATED:20260309T092824Z
LAST-MODIFIED:20260309T092829Z
UID:10001714-1773052200-1773054000@marttila.fi
SUMMARY:Tuolijumppa
DESCRIPTION:Ma 9.3. klo 10:30 Tuolijumppa\, viikoittain. \nSydänystävällisesti istuen tai seisten\, juuri sinulle parhaalla tavalla. \nHuvila\, Härkätie 723 (Härkätien Sydänyhdistys Ry)
URL:https://marttila.fi/tapahtuma/tuolijumppa/
LOCATION:Huvila\, Härkätie 723\, Härkätie 723
CATEGORIES:Ikäihmiset,Liikunta
END:VEVENT
BEGIN:VEVENT
DTSTART;TZID=Europe/Helsinki:20260219T150000
DTEND;TZID=Europe/Helsinki:20260219T190000
DTSTAMP:20260421T212050
CREATED:20260211T135007Z
LAST-MODIFIED:20260211T135007Z
UID:10001635-1771513200-1771527600@marttila.fi
SUMMARY:Nuokkari
DESCRIPTION:5.-luokkalaisille ja sitä vanhemmille nuokkari-ilta\, tarjolla pullaa ja kaakaota.
URL:https://marttila.fi/tapahtuma/nuokkari/
LOCATION:Huvila\, Härkätie 723\, Härkätie 723
CATEGORIES:Lapset ja nuoret
END:VEVENT
BEGIN:VEVENT
DTSTART;TZID=Europe/Helsinki:20251001T113000
DTEND;TZID=Europe/Helsinki:20251001T123000
DTSTAMP:20260421T212050
CREATED:20250717T070205Z
LAST-MODIFIED:20250717T070205Z
UID:10001260-1759318200-1759321800@marttila.fi
SUMMARY:Ulkoilua Wertaisliikuntakavereiden kanssa
DESCRIPTION:Lähtö ulkoilemaan vapaaehtoisten Wertaisliikuntakavereiden kanssa\, tule rohkeasti mukaan! Liikkuminen tapahtuu ulkona.
URL:https://marttila.fi/tapahtuma/ulkoilua-wertaisliikuntakavereiden-kanssa-2/
LOCATION:Huvila\, Härkätie 723\, Härkätie 723
CATEGORIES:Liikunta
ATTACH;FMTTYPE=image/png:https://marttila.fi/wp-content/uploads/2025/07/Wertaisliikuntakaverit-1.png
END:VEVENT
BEGIN:VEVENT
DTSTART;TZID=Europe/Helsinki:20250903T100000
DTEND;TZID=Europe/Helsinki:20250903T110000
DTSTAMP:20260421T212050
CREATED:20250717T065905Z
LAST-MODIFIED:20250717T065905Z
UID:10001259-1756893600-1756897200@marttila.fi
SUMMARY:Ulkoilua Wertaisliikuntakavereiden kanssa
DESCRIPTION:Lähtö ulkoilemaan vapaaehtoisten Wertaisliikuntakavereiden kanssa\, tule rohkeasti mukaan! Liikkuminen tapahtuu ulkona.
URL:https://marttila.fi/tapahtuma/ulkoilua-wertaisliikuntakavereiden-kanssa/
LOCATION:Huvila\, Härkätie 723\, Härkätie 723
CATEGORIES:Liikunta
ATTACH;FMTTYPE=image/png:https://marttila.fi/wp-content/uploads/2025/07/Wertaisliikuntakaverit-1.png
END:VEVENT
END:VCALENDAR