BEGIN:VCALENDAR
VERSION:2.0
PRODID:-//Marttilan kunta - ECPv6.15.18//NONSGML v1.0//EN
CALSCALE:GREGORIAN
METHOD:PUBLISH
X-WR-CALNAME:Marttilan kunta
X-ORIGINAL-URL:https://marttila.fi
X-WR-CALDESC:Tapahtumat Marttilan kunta
REFRESH-INTERVAL;VALUE=DURATION:PT1H
X-Robots-Tag:noindex
X-PUBLISHED-TTL:PT1H
BEGIN:VTIMEZONE
TZID:Europe/Helsinki
BEGIN:DAYLIGHT
TZOFFSETFROM:+0200
TZOFFSETTO:+0300
TZNAME:EEST
DTSTART:20240331T010000
END:DAYLIGHT
BEGIN:STANDARD
TZOFFSETFROM:+0300
TZOFFSETTO:+0200
TZNAME:EET
DTSTART:20241027T010000
END:STANDARD
BEGIN:DAYLIGHT
TZOFFSETFROM:+0200
TZOFFSETTO:+0300
TZNAME:EEST
DTSTART:20250330T010000
END:DAYLIGHT
BEGIN:STANDARD
TZOFFSETFROM:+0300
TZOFFSETTO:+0200
TZNAME:EET
DTSTART:20251026T010000
END:STANDARD
BEGIN:DAYLIGHT
TZOFFSETFROM:+0200
TZOFFSETTO:+0300
TZNAME:EEST
DTSTART:20260329T010000
END:DAYLIGHT
BEGIN:STANDARD
TZOFFSETFROM:+0300
TZOFFSETTO:+0200
TZNAME:EET
DTSTART:20261025T010000
END:STANDARD
BEGIN:DAYLIGHT
TZOFFSETFROM:+0200
TZOFFSETTO:+0300
TZNAME:EEST
DTSTART:20270328T010000
END:DAYLIGHT
BEGIN:STANDARD
TZOFFSETFROM:+0300
TZOFFSETTO:+0200
TZNAME:EET
DTSTART:20271031T010000
END:STANDARD
END:VTIMEZONE
BEGIN:VEVENT
DTSTART;TZID=Europe/Helsinki:20260220T090000
DTEND;TZID=Europe/Helsinki:20260220T150000
DTSTAMP:20260421T113151
CREATED:20260211T134016Z
LAST-MODIFIED:20260211T134016Z
UID:10001632-1771578000-1771599600@marttila.fi
SUMMARY:Futisleiripäivä 1.-4.-luokkalaisille
DESCRIPTION:Suositut hiihtoloman leiripäivät tulevat taas! \n\n\nPäivä koostuu futiksesta\, liikunnasta & laatuajasta kavereiden kanssa. Ilmoittautuminen on nyt auki\, ja mukaan pystytään ottamaan 16 lasta/nuorta per ryhmä \n\n\nLeirit pidetään Martintalolla. Leirillä valmentajana Salla Frantti.\n\nHinta 39 €\, sisaralennus kaksi lasta samasta perheestä yht. 59€\n\nNähdään hiihtolomaleirillä! \n\n\nIlmoittautumiset Salla.marttilanmurto@gmail.com
URL:https://marttila.fi/tapahtuma/futisleiripaiva-1-4-luokkalaisille/
LOCATION:Martintalo\, Metsäniityntie 9\, Marttila\, 21490
CATEGORIES:Lapset ja nuoret,Liikunta
ATTACH;FMTTYPE=image/jpeg:https://marttila.fi/wp-content/uploads/2026/02/futisleiri-hiihto26.jpg
END:VEVENT
BEGIN:VEVENT
DTSTART;TZID=Europe/Helsinki:20260216T090000
DTEND;TZID=Europe/Helsinki:20260216T150000
DTSTAMP:20260421T113151
CREATED:20260211T133803Z
LAST-MODIFIED:20260211T133803Z
UID:10001631-1771232400-1771254000@marttila.fi
SUMMARY:Futisleiripäivä 5-9-luokkalaisille
DESCRIPTION:Suositut hiihtoloman leiripäivät tulevat taas! \n\n\nPäivä koostuu futiksesta\, liikunnasta & laatuajasta kavereiden kanssa. Ilmoittautuminen on nyt auki\, ja mukaan pystytään ottamaan 16 lasta/nuorta per ryhmä \n\n\nLeirit pidetään Martintalolla. Leirillä valmentajana Janne Mäkinen.\n\nHinta 39 €\, sisaralennus kaksi lasta samasta perheestä yht. 59€\n\nNähdään hiihtolomaleirillä! \n\n\nIlmoittautumiset Salla.marttilanmurto@gmail.com
URL:https://marttila.fi/tapahtuma/futisleiripaiva-5-9-luokkalaisille/
LOCATION:Martintalo\, Metsäniityntie 9\, Marttila\, 21490
CATEGORIES:Lapset ja nuoret,Liikunta
ATTACH;FMTTYPE=image/jpeg:https://marttila.fi/wp-content/uploads/2026/02/futisleiri-hiihto26.jpg
END:VEVENT
BEGIN:VEVENT
DTSTART;TZID=Europe/Helsinki:20250814T180000
DTEND;TZID=Europe/Helsinki:20250814T190000
DTSTAMP:20260421T113151
CREATED:20250808T065704Z
LAST-MODIFIED:20250808T065704Z
UID:10001267-1755194400-1755198000@marttila.fi
SUMMARY:Vesijumppa
DESCRIPTION:Marttilan Murto vetää vesijumppaa Palaisissa. Sauna käytössä jumppaajille.
URL:https://marttila.fi/tapahtuma/vesijumppa/2025-08-14/
LOCATION:Palaisten uimapaikka\, Palaistentie 438\, Marttila\, Suomi
CATEGORIES:Ikäihmiset,Lapset ja nuoret,Liikunta
END:VEVENT
BEGIN:VEVENT
DTSTART;TZID=Europe/Helsinki:20250807T180000
DTEND;TZID=Europe/Helsinki:20250807T190000
DTSTAMP:20260421T113151
CREATED:20250808T065704Z
LAST-MODIFIED:20250808T065704Z
UID:10001266-1754589600-1754593200@marttila.fi
SUMMARY:Vesijumppa
DESCRIPTION:Marttilan Murto vetää vesijumppaa Palaisissa. Sauna käytössä jumppaajille.
URL:https://marttila.fi/tapahtuma/vesijumppa/2025-08-07/
LOCATION:Palaisten uimapaikka\, Palaistentie 438\, Marttila\, Suomi
CATEGORIES:Ikäihmiset,Lapset ja nuoret,Liikunta
END:VEVENT
BEGIN:VEVENT
DTSTART;TZID=Europe/Helsinki:20250731T180000
DTEND;TZID=Europe/Helsinki:20250731T190000
DTSTAMP:20260421T113151
CREATED:20250701T071305Z
LAST-MODIFIED:20250701T071305Z
UID:10001169-1753984800-1753988400@marttila.fi
SUMMARY:Vesijumppaa Palaisissa
DESCRIPTION:Marttilan Murto järjestää vesijumppaa Palaisten uimarannalla torstaisin klo 18. \nVesijumpassa tehdään perusliikkeitä ilman apuvälineitä. \nKertamaksu on 5 € ja se sisältää saunan. \nJumppa sopii kaikille\, kunnosta riippumatta.
URL:https://marttila.fi/tapahtuma/vesijumppaa-palaisissa/2025-07-31/
LOCATION:Palaisten uimapaikka\, Palaistentie 438\, Marttila\, Suomi
CATEGORIES:Ikäihmiset,Lapset ja nuoret,Liikunta,Yleinen
ATTACH;FMTTYPE=image/jpeg:https://marttila.fi/wp-content/uploads/2025/07/vesijumppa-25.jpg
END:VEVENT
BEGIN:VEVENT
DTSTART;TZID=Europe/Helsinki:20250724T180000
DTEND;TZID=Europe/Helsinki:20250724T190000
DTSTAMP:20260421T113151
CREATED:20250701T071305Z
LAST-MODIFIED:20250701T071305Z
UID:10001168-1753380000-1753383600@marttila.fi
SUMMARY:Vesijumppaa Palaisissa
DESCRIPTION:Marttilan Murto järjestää vesijumppaa Palaisten uimarannalla torstaisin klo 18. \nVesijumpassa tehdään perusliikkeitä ilman apuvälineitä. \nKertamaksu on 5 € ja se sisältää saunan. \nJumppa sopii kaikille\, kunnosta riippumatta.
URL:https://marttila.fi/tapahtuma/vesijumppaa-palaisissa/2025-07-24/
LOCATION:Palaisten uimapaikka\, Palaistentie 438\, Marttila\, Suomi
CATEGORIES:Ikäihmiset,Lapset ja nuoret,Liikunta,Yleinen
ATTACH;FMTTYPE=image/jpeg:https://marttila.fi/wp-content/uploads/2025/07/vesijumppa-25.jpg
END:VEVENT
BEGIN:VEVENT
DTSTART;TZID=Europe/Helsinki:20250717T180000
DTEND;TZID=Europe/Helsinki:20250717T190000
DTSTAMP:20260421T113151
CREATED:20250701T071305Z
LAST-MODIFIED:20250701T071305Z
UID:10001167-1752775200-1752778800@marttila.fi
SUMMARY:Vesijumppaa Palaisissa
DESCRIPTION:Marttilan Murto järjestää vesijumppaa Palaisten uimarannalla torstaisin klo 18. \nVesijumpassa tehdään perusliikkeitä ilman apuvälineitä. \nKertamaksu on 5 € ja se sisältää saunan. \nJumppa sopii kaikille\, kunnosta riippumatta.
URL:https://marttila.fi/tapahtuma/vesijumppaa-palaisissa/2025-07-17/
LOCATION:Palaisten uimapaikka\, Palaistentie 438\, Marttila\, Suomi
CATEGORIES:Ikäihmiset,Lapset ja nuoret,Liikunta,Yleinen
ATTACH;FMTTYPE=image/jpeg:https://marttila.fi/wp-content/uploads/2025/07/vesijumppa-25.jpg
END:VEVENT
BEGIN:VEVENT
DTSTART;TZID=Europe/Helsinki:20250710T180000
DTEND;TZID=Europe/Helsinki:20250710T190000
DTSTAMP:20260421T113151
CREATED:20250701T071305Z
LAST-MODIFIED:20250701T071305Z
UID:10001166-1752170400-1752174000@marttila.fi
SUMMARY:Vesijumppaa Palaisissa
DESCRIPTION:Marttilan Murto järjestää vesijumppaa Palaisten uimarannalla torstaisin klo 18. \nVesijumpassa tehdään perusliikkeitä ilman apuvälineitä. \nKertamaksu on 5 € ja se sisältää saunan. \nJumppa sopii kaikille\, kunnosta riippumatta.
URL:https://marttila.fi/tapahtuma/vesijumppaa-palaisissa/2025-07-10/
LOCATION:Palaisten uimapaikka\, Palaistentie 438\, Marttila\, Suomi
CATEGORIES:Ikäihmiset,Lapset ja nuoret,Liikunta,Yleinen
ATTACH;FMTTYPE=image/jpeg:https://marttila.fi/wp-content/uploads/2025/07/vesijumppa-25.jpg
END:VEVENT
BEGIN:VEVENT
DTSTART;TZID=Europe/Helsinki:20250703T180000
DTEND;TZID=Europe/Helsinki:20250703T190000
DTSTAMP:20260421T113151
CREATED:20250701T071305Z
LAST-MODIFIED:20250701T071305Z
UID:10001165-1751565600-1751569200@marttila.fi
SUMMARY:Vesijumppaa Palaisissa
DESCRIPTION:Marttilan Murto järjestää vesijumppaa Palaisten uimarannalla torstaisin klo 18. \nVesijumpassa tehdään perusliikkeitä ilman apuvälineitä. \nKertamaksu on 5 € ja se sisältää saunan. \nJumppa sopii kaikille\, kunnosta riippumatta.
URL:https://marttila.fi/tapahtuma/vesijumppaa-palaisissa/2025-07-03/
LOCATION:Palaisten uimapaikka\, Palaistentie 438\, Marttila\, Suomi
CATEGORIES:Ikäihmiset,Lapset ja nuoret,Liikunta,Yleinen
ATTACH;FMTTYPE=image/jpeg:https://marttila.fi/wp-content/uploads/2025/07/vesijumppa-25.jpg
END:VEVENT
END:VCALENDAR